BEGIN:VCALENDAR
VERSION:2.0
PRODID:-//Saint-Jeannet - ECPv6.0.8//NONSGML v1.0//EN
CALSCALE:GREGORIAN
METHOD:PUBLISH
X-WR-CALNAME:Saint-Jeannet
X-ORIGINAL-URL:https://www.saintjeannet.org
X-WR-CALDESC:évènements pour Saint-Jeannet
REFRESH-INTERVAL;VALUE=DURATION:PT1H
X-Robots-Tag:noindex
X-PUBLISHED-TTL:PT1H
BEGIN:VTIMEZONE
TZID:Europe/Paris
BEGIN:DAYLIGHT
TZOFFSETFROM:+0100
TZOFFSETTO:+0200
TZNAME:CEST
DTSTART:20180325T010000
END:DAYLIGHT
BEGIN:STANDARD
TZOFFSETFROM:+0200
TZOFFSETTO:+0100
TZNAME:CET
DTSTART:20181028T010000
END:STANDARD
END:VTIMEZONE
BEGIN:VEVENT
DTSTART;TZID=Europe/Paris:20180509T080000
DTEND;TZID=Europe/Paris:20180624T170000
DTSTAMP:20260422T003958
CREATED:20180511T063458Z
LAST-MODIFIED:20180511T063458Z
UID:9624-1525852800-1529859600@www.saintjeannet.org
SUMMARY:AS Saint-Jeannoise GPJ Baous tournoi jeunes "du 09 au 24 juin 2018"
DESCRIPTION:AS ST JEANNOISE GPJ BAOUS TOURNOI JEUNES \nDu 9 au 24 juin 2018 \nÉpreuves : \n\nFilles : 11\, 12\, 13\, 14\,15/16\, 17/18 ans\,\nGarçons : idem que les filles\n\nInscriptions : Anthony Borgia \n\nhttps://mon-espace-tennis.fft.fr\nTéléphone : 06 77 74 72 05
URL:https://www.saintjeannet.org/evenement/as-saint-jeannoise-gpj-baous-tournoi-jeunes-du-09-au-24-juin-2018/
LOCATION:tennis saint jeannet
ATTACH;FMTTYPE=image/jpeg:https://www.saintjeannet.org/wp-content/uploads/2018/05/tournoi_jeunes_2018-page-001-e1526023819208.jpg
END:VEVENT
BEGIN:VEVENT
DTSTART;TZID=Europe/Paris:20180531T080000
DTEND;TZID=Europe/Paris:20180614T170000
DTSTAMP:20260422T003958
CREATED:20180427T072534Z
LAST-MODIFIED:20180427T072534Z
UID:9454-1527753600-1528995600@www.saintjeannet.org
SUMMARY:Rencontres des Arts présente une exposition de dessins\, peintures et techniques mixtes à Vence
DESCRIPTION:Rencontres des Arts présente une exposition de dessins\, peintures et techniques mixtes du : \n\njeudi 31 mai au jeudi 14 juin – Jeanne MASURE et Patricia FARINELLI
URL:https://www.saintjeannet.org/evenement/rencontres-des-arts-presente-une-exposition-de-dessins-peintures-et-techniques-mixtes-a-vence-2/
LOCATION:Vence
ATTACH;FMTTYPE=image/jpeg:https://www.saintjeannet.org/wp-content/uploads/2018/04/Affiche-Regence-2018-A4-e1524817172312.jpg
END:VEVENT
BEGIN:VEVENT
DTSTART;TZID=Europe/Paris:20180602T093000
DTEND;TZID=Europe/Paris:20180602T170000
DTSTAMP:20260422T003958
CREATED:20180503T103038Z
LAST-MODIFIED:20180503T103038Z
UID:9485-1527931800-1527958800@www.saintjeannet.org
SUMMARY:L'équipe d'animation de la commune de Saint-Jeannet organise cette rencontre parents/enfants\, le samedi 2 Juin au stade de foot
DESCRIPTION:L’équipe d’animation organise cette rencontre parents / enfants\, le samedi 2 Juin au stade de Saint-Jeannet\, accessible à tous les enfants des écoles primaires « Les Près » et « La Ferrage« . \nTatiana Martin \n\nDirectrice de l’ACM de Saint-Jeannet\n06.19.22.20.84\nalshsaintjeannet@gmail.com
URL:https://www.saintjeannet.org/evenement/lequipe-danimation-de-la-commune-de-saint-jeannet-organise-cette-rencontre-parents-enfants-le-samedi-2-juin-au-stade-de-foot/
LOCATION:Stade football de Saint Jeannet
END:VEVENT
BEGIN:VEVENT
DTSTART;TZID=Europe/Paris:20180603T060000
DTEND;TZID=Europe/Paris:20180603T060000
DTSTAMP:20260422T003958
CREATED:20180511T070548Z
LAST-MODIFIED:20180511T070845Z
UID:9632-1528005600-1528005600@www.saintjeannet.org
SUMMARY:la Fondation MALONGO organise un vide-grenier le dimanche 03 juin 2018 sur le parking de l’UGECAM (à coté du stade de foot) à La Gaude.
DESCRIPTION:Les sommes récoltées seront reversées au profit de la coopérative des petits producteurs de café UCIRI au Mexique qui sont aujourd’hui sans aucune ressource ni logement suite au  terrible séisme qui s’est produit dans la région. \nAfin de mener à bien cette action caritative\, nous vous sollicitons\, pour rendre cet événement plus visible\, en vous demandant s’il est possible que vous affichiez le flyer ci-joint sur votre Site.\nNous vous laissons le soin de transmettre au service concerné le cas échéant. \nAvec nos remerciements et restant à votre disposition\, \nCordialement\, \nLA FONDATION MALONGO
URL:https://www.saintjeannet.org/evenement/la-fondation-malongo-organise-un-vide-grenier-le-dimanche-03-juin-2018-sur-le-parking-de-lugecam-a-cote-du-stade-de-foot-a-la-gaude/
LOCATION:Stade de football de La Gaude
ATTACH;FMTTYPE=image/jpeg:https://www.saintjeannet.org/wp-content/uploads/2018/05/AFFICHE-A4-VIDE-GRENIERS-2018-e1526025686199.jpg
END:VEVENT
BEGIN:VEVENT
DTSTART;TZID=Europe/Paris:20180603T180000
DTEND;TZID=Europe/Paris:20180603T220000
DTSTAMP:20260422T003958
CREATED:20180522T080204Z
LAST-MODIFIED:20180522T080204Z
UID:9702-1528048800-1528063200@www.saintjeannet.org
SUMMARY:Lancement de la saison estivale : Spectacle de cirque poétique "dimanche 03 juin à 18h" place de l'église
DESCRIPTION:Dimanche 3 juin / « hEchos » de la Cie El Tercer Ojo \nSpectacle de cirque poétique  \nLancement saison estivale des Balcons d’Azur\, Terre de Culture – 18h Place de l’église / Entrée libre et apéritif offert après le spectacle \nQuelqu’un sait qui sont ces esprits espiègles qui cachent nos objets dans le quotidien ? \nOu d’où viennent ces chuchotements à nos oreilles quand on est en solitude ? \nQuelqu’un sait qui provoque ces bruits de vent même quand il n’y a pas un souffle perceptible ? \nOu pourquoi notre peau frissonne et se hérisse sans raison apparente ? \nPourquoi soudain les choses ont leur vie propre et par quel sortilège des balles apparaissent du ciel. \nElle\, comme le vent de passage\, la tempête parfois\, ou la douce brise de mer. Est-il possible de voir le vent ? ou bien ne peut-on entendre que les bruits qu’il provoque ? est-ce que le vent peut rire ? \nLui\, simple comme les hommes quand ils savent être simples. Ses yeux voient comme nous voyons tous. Les choses de la vie\, simples\, palpables. Il aime les odeurs  et les goûts qui lui rappellent le passé… \nDeux personnages appartenant à deux mondes différents qui se rencontrent dans un même espace. Un espace qui se métamorphose\, de la sérénité à la folie\, de la peur à la joie. Un espace bouillonnant ou silencieux\, terrestre ou onirique. \nAvant le spectacle\, Saint-Jeannet accueille les communes des Balcons d’Azur pour la présentation de l’ensemble des événements de ce territoire durant l’été 2018 : Vence\, Gattières\, La Gaude\, Le Broc et Carros. \nTourisme et Culture de Saint-Jeannet – marie.royer@saintjeannet.org ou tourisme@saintjeannet.org – Tél.04 93 24 73 83/06 46 43 15 80 \n 
URL:https://www.saintjeannet.org/evenement/lancement-de-la-saison-estivale-spectacle-de-cirque-poetique-dimanche-03-juin-a-18h-place-de-leglise/
LOCATION:Place l’église à Saint-Jeannet
ATTACH;FMTTYPE=image/jpeg:https://www.saintjeannet.org/wp-content/uploads/2018/05/ETO-hEchos.jpg
END:VEVENT
BEGIN:VEVENT
DTSTART;VALUE=DATE:20180607
DTEND;VALUE=DATE:20180608
DTSTAMP:20260422T003958
CREATED:20171129T102406Z
LAST-MODIFIED:20171129T102406Z
UID:6340-1528329600-1528415999@www.saintjeannet.org
SUMMARY:Devenir parents (rencontre avec les partenaires de la petite enfance) La Gaude
DESCRIPTION:DEVENIR PARENTS\nRencontre avec les partenaires de la petite enfance \n\nle 7 décembre 2017\,\nle 1er mars 2018\,\nle 07 juin 2018\n\nRendez-vous 14h salle du lien Gaudois La Gaude \nRenseignements et inscriptions CAF : 04.92.29.41.72 – Crèche : 04.93.24.91.54
URL:https://www.saintjeannet.org/evenement/devenir-parents-rencontre-partenaires-de-petite-enfance-gaude-3/
ATTACH;FMTTYPE=image/jpeg:https://www.saintjeannet.org/wp-content/uploads/2017/11/devenirparents-page-001.jpg
END:VEVENT
BEGIN:VEVENT
DTSTART;TZID=Europe/Paris:20180608T200000
DTEND;TZID=Europe/Paris:20180608T200000
DTSTAMP:20260422T003958
CREATED:20180522T092327Z
LAST-MODIFIED:20180522T092344Z
UID:9733-1528488000-1528488000@www.saintjeannet.org
SUMMARY:Concert d'exception donné à La Coupole de La Gaude par "Les P'tits Gars Laids" le vendredi 08 juin 2018
DESCRIPTION:Fort de leur succès pour l’enregistrement live de leur dernier album\, le groupe niçois « LES P’TITS GARS LAIDS » vient dédier au profit de l’association ÉQUILIBRE CAVALCADE un concert d’exception au sein du Centre Culturel LA COUPOLE à LA GAUDE le vendredi 8 Juin 2018. \nLa réservation des places se fait UNIQUEMENT sur le site de réservation suivant : \nhttps://www.helloasso.com/associations/equilibre-cavalcade/evenements/les-p-tits-gars-laids \nNous nous permettons d’attirer votre attention sur le fait que LA COUPOLE ne compte que 170 places. Aussi\, si vous souhaitez participer à cette soirée endiablée\, nous vous invitons à ne pas tarder à réserver. \n \nAu plaisir de vous y retrouver . \nCordialement. \nEQUILIBRE CAVALCADE \n355\, Chemin du Mont Gros 06610 LA GAUDE – Tel : 06.73.84.12.71 – 06.18.40.46.83
URL:https://www.saintjeannet.org/evenement/concert-dexception-donne-a-la-coupole-de-la-gaude-par-les-ptits-gars-laids-le-vendredi-08-juin-2018/
LOCATION:LA COUPOLE DE LA GAUDE
END:VEVENT
BEGIN:VEVENT
DTSTART;TZID=Europe/Paris:20180609T170000
DTEND;TZID=Europe/Paris:20180610T230000
DTSTAMP:20260422T003958
CREATED:20180515T080352Z
LAST-MODIFIED:20180515T080352Z
UID:9679-1528563600-1528671600@www.saintjeannet.org
SUMMARY:Rock Fest 2018 - 2 jours - 14 concerts - samedi 9 et dimanche 10 juin La Gaude
DESCRIPTION:Rock Fest 2018 avec 1 Max De Bruit : 2 jours\, 14 concerts\nSamedi 9 et dimanche 10 juin 2018 à La Gaude\, stade du Mont Gros \nL’association 1 Max De Bruit\, présidée par Fabrice Miguet\, se démène toujours et encore pour organiser la\n6e édition du Rock Fest -100% Tribute -100% Générosité\, au profit d’une association caritative qui oeuvre\nauprès d’enfants en difficulté et leur famille. Cette année l’ensemble des bénéfices sera reversé à l’ Association\npour l’Enseignement aux Enfants Malades (AEEM)\, agréée par l’Éducation Nationale\, association du bassin\ngaudois\, qui a pour but de scolariser\, à domicile ou à l’hôpital\, les élèves dont les études sont interrompues\nou gravement perturbées par la maladie ou l’accident. Pour la deuxième année consécutive le Rock Fest\n1MDB prend ses quartiers dans le cadre idyllique du village de La Gaude\, au sein de la métropole Nice Cote\nd’Azur. L’ ouverture des portes du festival se fera à partir de 16h le samedi 9 juin et le dimanche 10 juin.\nLe Rock Fest c’est avant tout des amis dévoués aux enfants et leur famille\, ce sont plus de 150 bénévoles\nqui mettent leur savoir-faire au service de l’association pour organiser ce festival au grand coeur. Donner\ndu temps avec pour satisfaction d’offrir les fonds récoltés\, plus de 27 600 € en 5 ans\, a apporté un peu de\nbonheur et de réconfort à ceux qui en ont besoin. Nous vous attendons nombreux pour nous soutenir et\npartager ces moments rock’n’roll. \nFabrice MIGUET | Président : 06 22 33 56 30\nCatherine SAVIN | communication\, presse\, médias : 06 17 42 29 60\nPour cette édition 2018 du Rock Fest\, 14 groupes et 1 DJ se relaieront durant 2 soirées exceptionnelles :\nSamedi 9 juin : 17h Doctor Madness «compos» | 18h Angel For a Day Angel City | 19h Back In Town Thin\nLizzy | 20h Les Grandes Gueules Trust | 21h New Jersey Bon Jovi | 22h Ivrogne Maiden Iron Maiden | 23h\nMake it Real Scorpions. \nDimanche 10 juin : 17h Les Beberts «compos» | 18h Fragdog Shaka Ponk | 19h Warm Led Zep |\n20h With U U2 | 21h Made Again Marillion | 22h Five 2 One The Doors | 23h Ziggy’s Band David Bowie.\nLocations et points de vente habituels et Hit Import. Préventes : PASS 1 jour 15€ | PASS 2 jours 25€ . Le jour\nmême : PASS 1 jour 18€ | PASS 2 jours 30€ et PASS enfant 1 jour 10€ sur place uniquement \nDossier de presse 2018 \nRockfest 2018
URL:https://www.saintjeannet.org/evenement/rock-fest-2018-2-jours-14-concerts-samedi-9-et-dimanche-10-juin-la-gaude/
LOCATION:La Gaude\, stade du Mont Gros
ATTACH;FMTTYPE=image/jpeg:https://www.saintjeannet.org/wp-content/uploads/2018/05/AffA3Rockfest18web-e1526368800397.jpg
END:VEVENT
BEGIN:VEVENT
DTSTART;TZID=Europe/Paris:20180610T090000
DTEND;TZID=Europe/Paris:20180610T113000
DTSTAMP:20260422T003958
CREATED:20171004T083032Z
LAST-MODIFIED:20171004T083032Z
UID:5263-1528621200-1528630200@www.saintjeannet.org
SUMMARY:Informations sur le chemin proposé par la Paroisse aux enfants
DESCRIPTION:La Paroisse ST Véran et ST Lambet propose les 2ème dimanches des mois (le matin) de 9h à 11h30 des informations sur le chemin proposé par la Paroisse aux enfants. \nLes rendez-vous : le 12 novembre\, le 10 décembre\, le 14 janvier 2018\, le 11 février\, le 11 mars\, le 08 avril\, le 13 mai et le 10 juin 2018. \nCoordonnées : Monsieur Louis Gibellin « Curé » 04.93.59.88.63 – Mail. louis9.gibellin@orange.fr
URL:https://www.saintjeannet.org/evenement/informations-chemin-propose-paroisse-aux-enfants-8/
LOCATION:FOUR A PAIN
END:VEVENT
BEGIN:VEVENT
DTSTART;TZID=Europe/Paris:20180613T100000
DTEND;TZID=Europe/Paris:20180613T170000
DTSTAMP:20260422T003958
CREATED:20180531T114100Z
LAST-MODIFIED:20180531T114303Z
UID:9775-1528884000-1528909200@www.saintjeannet.org
SUMMARY:Fête de l'Art et l'Enfant sur le chemin de l'imaginaire le 13 juin à La Coupole de La Gaude
DESCRIPTION:Venez nous retrouver dans le Bois de l’Espace Créatifs et à la Coupole de La Gaude le mercredi 13 juin de 10h à 12h et de 14h à 17h. \n L‘ART ET L‘ENFANT sur le chemin de l’imaginaire.\nExposition du 06 juin au 11 juin à La Coupole.
URL:https://www.saintjeannet.org/evenement/fete-de-lart-et-lenfant-sur-le-chemin-de-limaginaire/
LOCATION:LA COUPOLE DE LA GAUDE
ATTACH;FMTTYPE=image/jpeg:https://www.saintjeannet.org/wp-content/uploads/2018/05/fete-de-lart-2018-e1527770069446.jpg
END:VEVENT
BEGIN:VEVENT
DTSTART;TZID=Europe/Paris:20180614T190000
DTEND;TZID=Europe/Paris:20180614T220000
DTSTAMP:20260422T003958
CREATED:20180614T172949Z
LAST-MODIFIED:20180614T173431Z
UID:9848-1529002800-1529013600@www.saintjeannet.org
SUMMARY:La fête de la musique à Saint-Jeannet de 19h à 22h sur la place de l'église avec le service Tourisme et Culture
DESCRIPTION:Saint Jeannet : La Fête de la Musique le jeudi 21 Juin\nDe 19h à 22h – Place de l’EgliseLe service Tourisme et Culture proposera une scène ouverte sur la Place de l’Eglise.\nTous musiciens et chanteurs amateurs sont les bienvenus.\nContactez-nous pour toutes informations\, questions et demandes de créneaux horaires : 04 93 24 73 83 / Service Tourisme et Culture / tourisme@saintjeannet.orgEgalement\, plusieurs petits concerts sont prévus chez les commerçants pour cette date…Rue Sainte-Barbe et Rue du Château\, au centre du village. \nMais aussi à 21h / Un concert et scène ouverte du Groupe Capodastre / Salle Saint Jean-Baptiste. \n\n\nMerci Georgette
URL:https://www.saintjeannet.org/evenement/la-fete-de-la-musique-a-saint-jeannet-de-19h-a-22h-sur-la-place-de-leglise-avec-le-service-tourisme-et-culture/
LOCATION:Place de l’église\, SAINT JEANNET\, 06640
ATTACH;FMTTYPE=image/jpeg:https://www.saintjeannet.org/wp-content/uploads/2018/06/35077324_1483174848455822_8862898120351023104_n.jpg
END:VEVENT
BEGIN:VEVENT
DTSTART;TZID=Europe/Paris:20180617T080000
DTEND;TZID=Europe/Paris:20180617T180000
DTSTAMP:20260422T003958
CREATED:20180522T091232Z
LAST-MODIFIED:20180522T091232Z
UID:9727-1529222400-1529258400@www.saintjeannet.org
SUMMARY:Grand vide grenier du Lions Club de La Gaude Balcons de Provence "le dimanche 17 juin 2018 au stade de Saint-Jeannet"
DESCRIPTION:Grand vide grenier du Lions Club de La Gaude Balcons de Provence « le dimanche 17 juin 2018 au stade de Saint-Jeannet » de 8h à 18h. \nEn partenariat avec « Dépistage gratuit du diabète avec L.I.D.E.R Diabète \nPetite restauration et buvette sur place. \nRéservation : Thierry HENRY 07 87 02 46 08 (avant le 25 mai) ou Marcel MASSELIS 06 38 39 25 72 (après le 25 mai) – lions.balcons@laposte.net \nStand 5×5 (véhicule compris) = 25 euros.
URL:https://www.saintjeannet.org/evenement/grand-vide-grenier-du-lions-club-de-la-gaude-balcons-de-provence-le-dimanche-17-juin-2018-au-stade-de-saint-jeannet/
LOCATION:stade de football de saint jeannet
ATTACH;FMTTYPE=image/jpeg:https://www.saintjeannet.org/wp-content/uploads/2018/05/Vide-grenier-des-Balcons-de-Provence-page-001-e1526983736337.jpg
END:VEVENT
BEGIN:VEVENT
DTSTART;TZID=Europe/Paris:20180620T103000
DTEND;TZID=Europe/Paris:20180620T163000
DTSTAMP:20260422T003958
CREATED:20180419T061240Z
LAST-MODIFIED:20180419T061240Z
UID:9329-1529490600-1529512200@www.saintjeannet.org
SUMMARY:Forum bien vieillir à Saint-Jeannet le mercredi 20 juin 2018 dans la salle Saint-Jean Baptiste
DESCRIPTION:FORUM DU BIEN VIEILLIR A SAINT-JEANNET. Le Mercredi 20 juin 2018 de 10 h 30 à 13 h 00 et de 14 h 30 à 16 h 30\, Salle Saint-Jean-Baptiste. \nAu programme toute la journée des stands d’informations\, des initiations\, ( Réflexologie\, Sophrologie …….) des ateliers de prévention et de dépistage. Ce forum est destiné non seulement aux Saint-Jeannois\, mais aussi à toutes celles et ceux qui souhaitent rencontrer des professionnels de la santé et de Prévention et de dépistage santé personnalisés. \nNathalie MICHEL\n C.C.A.S.de Saint-Jeannet\n04.93.24.70.70.\nsocial@saintjeannet.org
URL:https://www.saintjeannet.org/evenement/forum-bien-vieillir-a-saint-jeannet-le-mercredi-20-juin-2018-dans-la-salle-saint-jean-baptiste/
LOCATION:chapelle saint jean baptiste\, rue de La Ferrage\, SAINT-JEANNET\, 06640
ATTACH;FMTTYPE=image/jpeg:https://www.saintjeannet.org/wp-content/uploads/2017/05/30422235_1740851182620964_1267571737_n.jpg
END:VEVENT
BEGIN:VEVENT
DTSTART;TZID=Europe/Paris:20180621T190000
DTEND;TZID=Europe/Paris:20180621T220000
DTSTAMP:20260422T003958
CREATED:20180620T075711Z
LAST-MODIFIED:20180620T075711Z
UID:9893-1529607600-1529618400@www.saintjeannet.org
SUMMARY:La Fête de la Musique du jeudi 21 Juin de 19h à 22h se déroulera sur 2 sites – Le service Tourisme et Culture (place de l'église) et Capodastre (Salle Saint-Jean Baptiste).
DESCRIPTION:Saint Jeannet : La Fête de la Musique le jeudi 21 Juin\nDe 19h à 22h – Place de l’Eglise Le service Tourisme et Culture proposera une scène ouverte sur la Place de l’Eglise.\nTous musiciens et chanteurs amateurs sont les bienvenus. \nContactez-nous pour toutes informations\, questions et demandes de créneaux horaires : 04 93 24 73 83 / Service Tourisme et Culture / tourisme@saintjeannet.org \nEgalement\, plusieurs petits concerts sont prévus chez les commerçants pour cette date…Rue Sainte-Barbe et Rue du Château\, au centre du village. \nMais aussi à 21h / Un concert et scène ouverte du Groupe Capodastre / Salle Saint Jean-Baptiste.
URL:https://www.saintjeannet.org/evenement/la-fete-de-la-musique-du-jeudi-21-juin-de-19h-a-22h-se-deroulera-sur-2-sites-le-service-tourisme-et-culture-place-de-leglise-et-capodastre-salle-saint-jean-baptiste/
LOCATION:Place de l’église
ATTACH;FMTTYPE=image/jpeg:https://www.saintjeannet.org/wp-content/uploads/2018/06/35077324_1483174848455822_8862898120351023104_n.jpg
END:VEVENT
BEGIN:VEVENT
DTSTART;VALUE=DATE:20180623
DTEND;VALUE=DATE:20180624
DTSTAMP:20260422T003958
CREATED:20180620T083010Z
LAST-MODIFIED:20180620T083010Z
UID:9906-1529712000-1529798399@www.saintjeannet.org
SUMMARY:Fête du basket le samedi 23 juin sur le plateau sportif
DESCRIPTION:Fête du basket à Saint Jeannet \nRendez-vous sur le plateau sportif \nSamedi 23 juin 2018 \nPROGRAMME \n\n10h30-11h30  Ateliers Babys/Minis poussin(e)s\n11h30-12h30 Tournoi U11(Poussins)/U13(Benjamins)\n12h30-13h30 Repas sur place avec les COACHS\n\nNous vous attendons nombreux ! \nUne buvette fonctionnera toute la journée avec notamment : \n\nNouveauté 2018 : Le Pan-Bagnat !!!!!\nLe Pan-Bagnat / Boisson (7 euros)\nHot-Dog Frites / Boisson (6 euros)\nSandwich Merguez/Chipo – Frites / Boisson (6 euros) \n\nPour ceux qui le souhaitent\, vous pouvez contribuer au repas en amenant une préparation sucrée ou salée. \n\n13h30-19h30 Tournoi U15\, U17\, U20\, Seniors\, loisirs\, ….\n\nEt ….. Concours : meneur et de shoots !!! \nInscriptions auprès de Nicolas Giornelli (06 19 36 92 38) et des COACHS \navant le 18/06/2018 \n\n19h30/20h30 Tirage de la tombola du BCB\, nombreux lots à gagner !!!\n\nApéritif en musique \n\n20h30 Repas du soir :\nLasagne/salade verte\nDessert et boissons comprises\n10 euros/adultes et 8 euros /enfants (- de 12 ans)\n\nFiche d’inscription ci-dessous : \nFête Du Basket Samedi 23 Juin 2018
URL:https://www.saintjeannet.org/evenement/fete-du-basket-le-samedi-23-juin-sur-le-plateau-sportif/
LOCATION:STADE DE SAINT JEANNET
END:VEVENT
BEGIN:VEVENT
DTSTART;TZID=Europe/Paris:20180624T050000
DTEND;TZID=Europe/Paris:20180624T180000
DTSTAMP:20260422T003958
CREATED:20180212T084530Z
LAST-MODIFIED:20180212T084910Z
UID:8091-1529816400-1529863200@www.saintjeannet.org
SUMMARY:Le Lions Club Nice Arenas organise un grand vide greniers le dimanche 24 juin au MIN
DESCRIPTION:Un grand vide-greniers est organisé par le LIONS CUB NICE ANRENAS \nLe dimanche 24 juin 2018 de 5h à 18h \nInformations et inscriptions au 06 82 78 34 97 ou par émail à lionsclub.nice.agenda@gmail.com  
URL:https://www.saintjeannet.org/evenement/lions-club-nice-arenas-organise-grand-vide-greniers-dimanche-24-juin-min/
LOCATION:Marché d’intérêt national de Nice
ATTACH;FMTTYPE=image/jpeg:https://www.saintjeannet.org/wp-content/uploads/2018/02/affiche-vide-grenier-2018-DEFINITIF-1-page-001.jpg
END:VEVENT
BEGIN:VEVENT
DTSTART;TZID=Europe/Paris:20180627T180000
DTEND;TZID=Europe/Paris:20180627T200000
DTSTAMP:20260422T003958
CREATED:20180525T132231Z
LAST-MODIFIED:20180601T131818Z
UID:9751-1530122400-1530129600@www.saintjeannet.org
SUMMARY:Exposition TAP
DESCRIPTION:Dans le cadre des activités périscolaires proposées au sein des écoles de Saint-Jeannet\, nous nous vous invitons à l’exposition des œuvres réalisées par les enfants de maternelle et de primaire lors des jeudis après-midi. \nVenez découvrir nos ateliers d’expression corporelle\, d’éveil musical\, d’arts plastiques et pratiques\, de jeux collectifs et d’activités sportives\, le mercredi 27 juin 2018 de 18h à 20h au stade municipal de Saint-Jeannet.\n \nVenez nombreux encourager le développement artistique de nos petits. \nContact : Isabelle RIVIERE –Tél.06 19 22 21 39 – coordinationeducationjeunesse@hotmail.com 
URL:https://www.saintjeannet.org/evenement/expo-tap-le-jeudi-14-juin-de-18h-a-20h-au-stade-de-saint-jeannet/
LOCATION:stade de football de saint jeannet
END:VEVENT
BEGIN:VEVENT
DTSTART;TZID=Europe/Paris:20180629T100000
DTEND;TZID=Europe/Paris:20180701T203000
DTSTAMP:20260422T003958
CREATED:20180620T080150Z
LAST-MODIFIED:20180620T080150Z
UID:9896-1530266400-1530477000@www.saintjeannet.org
SUMMARY:Le festival Gueules de voix du 29 juin au 1er juillet au village
DESCRIPTION:Les prochains Rendez-vous culturels à ne pas manquer ! \nDu 29 Juin au 1er Juillet  \nLe Festival Gueules de voix // 4ème édition \nVillage de Saint-Jeannet  \nCe festival croisant les disciplines artistiques met la voix à l’honneur durant 3 jours\, avec 8 spectacles\, dont 2 dédiés au jeune public\, 12 ateliers\, un concours de chant\, 2 conférences et tables rondes… autant de rencontres possibles avec des artistes talentueux\, venant d’univers différents\, ouvert à tout public ! \nToute la programmation est à retrouver sur le site du festival : www.gueulesdevoix.com \nOu sur la page Facebook : www.facebook.com/gueulesdevoix \nLa billetterie du Festival Gueules de Voix est déjà ouverte\, n’hésitez pas à réserver dès maintenant ! au 04 93 24 73 83 ou tourisme@saintjeannet.org \n\n  \nLa suite du programme dans notre prochaine Newsletter ! \nNotre programme de l’été est disponible au Service Tourisme et Culture\, situé au centre du village\, rue Saint-Barbe ainsi que chez nos commerçants ou encore via Internet sur nos pages Facebook : Rendez-vous de Saint-Jeannet / saison culturelle  ou sur  Tourisme culture Saint-Jeannet  \nLe programme de cet été \n\nSaison été Saint Jeannet 2018\n\nFanny LAUTRU et Marie ROYER\nService Tourisme et Culture\nRue Sainte Barbe\, 06640 Saint-Jeannet\n04.93.24.73.83 ou 06.46.43.15.80\nhttp://www.saintjeannet.org/
URL:https://www.saintjeannet.org/evenement/le-festival-gueules-de-voix-du-29-juin-au-1er-juillet-au-village/
LOCATION:Salle Saint Jean-Baptiste\, rue de la Ferrage\, Saint-Jeannet\, 06640\, France Métropolitaine
ATTACH;FMTTYPE=image/jpeg:https://www.saintjeannet.org/wp-content/uploads/2017/12/25289174_2011287535808881_3853616574113841276_n.jpg
END:VEVENT
BEGIN:VEVENT
DTSTART;TZID=Europe/Paris:20180630T090000
DTEND;TZID=Europe/Paris:20180630T123000
DTSTAMP:20260422T003958
CREATED:20180625T082144Z
LAST-MODIFIED:20180625T082144Z
UID:10042-1530349200-1530361800@www.saintjeannet.org
SUMMARY:A Saint Jeannet - samedi 30 juin - atelier fabrication de pain fait maison au levain au Jardin Participatif
DESCRIPTION:A Saint-Jeannet\, samedi 30 juin au jardin participatif de Saint-Jeannet : \nL’association Jardins et ruchers des Baous vous propose de découvrir avec Annie La Mesta les différents types de farines\, les différentes fermentations\, les différentes graines et céréales\, et d’apprendre à fabriquer votre pain au levain maison. \nRepartez avec votre pâton de pain à cuire chez vous ! \nINFOS PRATIQUES : \n\nAccueil au jardin 9h00 (boissons chaudes offertes)\nDébut de l’atelier 9h30 (durée de l’atelier 3h00 environ)\n\nRÉSERVATION : \nMerci de réserver vos places via notre\nESPACE RÉSERVATION ATELIER  ou au 06 15 40 93 24 \nParticipation : 15€ reversé à l’association. \nLIEU : Le jardin participatif à l’entrée du village de Saint Jeannet  – l’entrée du Jardin se fait par le portail situé à l’angle de l’escalier qui rejoint la rue du Vallon depuis le parking principal René Veyssi (arrivée par le Peyron).
URL:https://www.saintjeannet.org/evenement/a-saint-jeannet-samedi-30-juin-atelier-fabrication-de-pain-fait-maison-au-levain-au-jardin-participatif/
LOCATION:Jardin Lazare\, CD 18 - Parking René Veyssi\, Saint Jeannet\, 06640\, France
END:VEVENT
END:VCALENDAR