BEGIN:VCALENDAR
VERSION:2.0
PRODID:-//Saint-Jeannet - ECPv6.0.8//NONSGML v1.0//EN
CALSCALE:GREGORIAN
METHOD:PUBLISH
X-WR-CALNAME:Saint-Jeannet
X-ORIGINAL-URL:https://www.saintjeannet.org
X-WR-CALDESC:évènements pour Saint-Jeannet
REFRESH-INTERVAL;VALUE=DURATION:PT1H
X-Robots-Tag:noindex
X-PUBLISHED-TTL:PT1H
BEGIN:VTIMEZONE
TZID:Europe/Paris
BEGIN:DAYLIGHT
TZOFFSETFROM:+0100
TZOFFSETTO:+0200
TZNAME:CEST
DTSTART:20180325T010000
END:DAYLIGHT
BEGIN:STANDARD
TZOFFSETFROM:+0200
TZOFFSETTO:+0100
TZNAME:CET
DTSTART:20181028T010000
END:STANDARD
END:VTIMEZONE
BEGIN:VEVENT
DTSTART;TZID=Europe/Paris:20180430T093000
DTEND;TZID=Europe/Paris:20180506T183000
DTSTAMP:20260422T021250
CREATED:20180205T091437Z
LAST-MODIFIED:20180205T091437Z
UID:7921-1525080600-1525631400@www.saintjeannet.org
SUMMARY:Exposition "Des Couleurs et des Formes" par L'Atelier de La Gaude du 30 avril au 06 mai
DESCRIPTION:Exposition « Des Couleurs et des Formes » par L’Atelier de La Gaude \nListe des artistes participants : \n\nGérard Amic : Sculpture et Gravure\nJosette Blanc : Céramique\nRoger Bouchon : Céramique\nMartine Goguet-Seston : Céramique\nSandrine Lemaitre : Bijoux\nClaudie Macari : peinture\, technique mixte\nFrançoise Morisseau : Peluches et personnages en tissu\, tableaux avec du sable\nGarance : Aquarelle\n\nL’éveil de la nature vous invite à une petite balade à Saint-Jeannet ?  Alors pourquoi \, après avoir visité le village\, ne pas franchir la Porte de la Ferrage afin de découvrir  à la salle Saint-Jean Baptiste \, l’exposition des artistes de l’Atelier de La Gaude. \nVous y découvrirez d’emblée le monde des  femmes de Claudie\, ses peintures à l’huile respirent  bonheur\, beauté et sérénité. \nEmboitez le pas de Gérard qui vous fera découvrir  ses sculptures réalisées  sur pierres et bois collectés au gré de ses randonnées. \nPoussez le portillon et revisitez avec Roger « les jardins de son enfance » : tableaux et pièces murales en céramique. \nPoursuivez la visite du jardin en flânant parmi les fleurs et le bestiaire en céramique de Martine. \nRejoignez Alice aux pays des Merveilles avec les lapins et les figurines en tissus  de Françoise. \nAppréciez la finesse des aquarelles de Garance : J’aime la  technique dite du « mouillé dans le mouillé » apte à rendre les sentiments et les émotions … \nAllez à la rencontre des tableaux de Françoise délicatement réalisés avec du sable. \nEt\, avant de nous quitter\, ne manquez pas de jeter un œil aux délicats bijoux de Sandrine. \nMerci pour votre encouragement. \nLes artistes de l’Atelier de La Gaude \n  \nExposition du 30 avril au 6 mai à la salle Saint Jean Baptiste \nOuverture tous les jours de 9h30 à 18h30\, entrée libre.
URL:https://www.saintjeannet.org/evenement/exposition-couleurs-formes-latelier-de-gaude-30-avril-06-mai/
LOCATION:chapelle saint jean baptiste\, rue de La Ferrage\, SAINT-JEANNET\, 06640
ATTACH;FMTTYPE=image/jpeg:https://www.saintjeannet.org/wp-content/uploads/2018/02/PICT2609-rrc2.jpg
END:VEVENT
BEGIN:VEVENT
DTSTART;TZID=Europe/Paris:20180501T080000
DTEND;TZID=Europe/Paris:20180506T170000
DTSTAMP:20260422T021250
CREATED:20180427T060315Z
LAST-MODIFIED:20180427T073923Z
UID:9441-1525161600-1525626000@www.saintjeannet.org
SUMMARY:Expo "Rencontre des Arts" au Parc Phoenix du 1er au 06 mai
DESCRIPTION:EXPO \n \nBijoux\, peintures\, dessins\, sculptures du mardi 1er mai au dimanche 06 mai 2018. Vernissage le mardi 1er mai à 17h. \nArtistes : \nNaurenn AGHA\, Christine DEFOLY\, Djemma\, Patricia FARINELLI\, Florence MOATI\, NKIVEL Créations\, Martine PEPIN\, Jean-Pierre BLANC\, Etienne GUERINAUD. \nTél.04 92 29 77 00 – parc-phoenix.org  \nEntrée libre avec un imprimé de l’affiche * 2h gratuites au parking SEMIACS
URL:https://www.saintjeannet.org/evenement/expo-rencontre-des-arts-au-parc-phoenix-du-1er-au-06-mai/
LOCATION:Parc Phoenix
ATTACH;FMTTYPE=image/jpeg:https://www.saintjeannet.org/wp-content/uploads/2018/04/Vernissage-Parc-Phoenix-A5.jpg
END:VEVENT
BEGIN:VEVENT
DTSTART;TZID=Europe/Paris:20180506T090000
DTEND;TZID=Europe/Paris:20180506T120000
DTSTAMP:20260422T021250
CREATED:20180426T124156Z
LAST-MODIFIED:20180426T124156Z
UID:9435-1525597200-1525608000@www.saintjeannet.org
SUMMARY:Atelier cuisine "Jardins et Ruchers des Baous" le dimanche 06 mai
DESCRIPTION:Dimanche 06 mai à 9h « Atelier cuisine » Menu printanier avec l’association « Jardins et Ruchers des Baous »en compagnie de Rose notre spécialiste cuisine ! \nCe moi ci au jardin c’est vous qui faites le menu ! \nVenez participer à notre atelier cuisine et déguster un repas convivial dans un décor champêtre. \nPour célébrer le retour des beaux jours\, le coin cuisine vous propose un atelier cuisine « Menu printanier »
URL:https://www.saintjeannet.org/evenement/atelier-cuisine-jardins-et-ruchers-des-baous-le-dimanche-06-mai/
LOCATION:Ruchers des Baous
ATTACH;FMTTYPE=image/jpeg:https://www.saintjeannet.org/wp-content/uploads/2018/04/image.png
END:VEVENT
BEGIN:VEVENT
DTSTART;TZID=Europe/Paris:20180509T080000
DTEND;TZID=Europe/Paris:20180624T170000
DTSTAMP:20260422T021251
CREATED:20180511T063458Z
LAST-MODIFIED:20180511T063458Z
UID:9624-1525852800-1529859600@www.saintjeannet.org
SUMMARY:AS Saint-Jeannoise GPJ Baous tournoi jeunes "du 09 au 24 juin 2018"
DESCRIPTION:AS ST JEANNOISE GPJ BAOUS TOURNOI JEUNES \nDu 9 au 24 juin 2018 \nÉpreuves : \n\nFilles : 11\, 12\, 13\, 14\,15/16\, 17/18 ans\,\nGarçons : idem que les filles\n\nInscriptions : Anthony Borgia \n\nhttps://mon-espace-tennis.fft.fr\nTéléphone : 06 77 74 72 05
URL:https://www.saintjeannet.org/evenement/as-saint-jeannoise-gpj-baous-tournoi-jeunes-du-09-au-24-juin-2018/
LOCATION:tennis saint jeannet
ATTACH;FMTTYPE=image/jpeg:https://www.saintjeannet.org/wp-content/uploads/2018/05/tournoi_jeunes_2018-page-001-e1526023819208.jpg
END:VEVENT
BEGIN:VEVENT
DTSTART;TZID=Europe/Paris:20180511T080000
DTEND;TZID=Europe/Paris:20180512T170000
DTSTAMP:20260422T021251
CREATED:20180212T091015Z
LAST-MODIFIED:20180212T091015Z
UID:8100-1526025600-1526144400@www.saintjeannet.org
SUMMARY:Festival de chant traditionnel du Pays du Paillons - 18ème Festi'cant les 11 et 12 mai 2018
DESCRIPTION:Toute l’équipe d’Alp-Harmonia a fini son hibernation.\n2017 fut riche en découvertes et en réussite. Voici quelques liens pour revivre ces moments forts. \n  \n\nJeudi 11 mai à Lucéram :\nhttps://photos.app.goo.gl/FgbmitdTj0NCOWIt2\nvendredi 12 mai à Berre les Alpes :\nhttps://photos.app.goo.gl/Tbhac9iy3XJm5jZu1\nsamedi 13 mai à Contes :\nhttps://photos.app.goo.gl/TibTwF0SNf9FC8DH3\ndimanche 14 mai à Bendejun :\nhttps://photos.app.goo.gl/IST7fbBt9UqYPP1H2\n\nPuis le 18 novembre\, notre fête\, stage\, concert et repas partagé avec la Manufacture verbale. \nhttps://photos.app.goo.gl/UiqF2r7JbMl3SuS62 \nMais 2018 est là avec du Nouveau. \n\nFesti-Cant « Printemps » les vendredi 11 et samedi 12 mai. (Programme en pièce jointe.)\nFesti-Cant « Automne » les samedi 17 et dimanche 18 novembre. (programme en préparation).\nNotre assemblée générale aura lieu le vendredi 23 février\, à 18h30 à la mairie annexe de la pointe de Contes\, suivie d’un repas partagé.\n\nSi vous désirez nous rencontrer\, vous êtes les bienvenus. \nRenseignements : 06 80 74 70 50. \nPour et avec toute l’équipe d’Alp-Harmonia.
URL:https://www.saintjeannet.org/evenement/festival-de-chant-traditionnel-pays-paillons-18eme-festicant-11-12-mai-2018/
LOCATION:Contes
ATTACH;FMTTYPE=image/jpeg:https://www.saintjeannet.org/wp-content/uploads/2018/02/dépliant-festi-recto-1-1.jpg
END:VEVENT
BEGIN:VEVENT
DTSTART;TZID=Europe/Paris:20180512T110000
DTEND;TZID=Europe/Paris:20180512T170000
DTSTAMP:20260422T021251
CREATED:20180511T080450Z
LAST-MODIFIED:20180511T080450Z
UID:9644-1526122800-1526144400@www.saintjeannet.org
SUMMARY:Lancement de ma ville est un grand jardin le samedi 11 mai à 11h
DESCRIPTION:Veuillez trouver ci-dessous le programme concernant la Fête de la nature \n“ Ma ville est un grand jardin” \nSamedi 12 mai 2018 à 11h \nLancement de la fête  \n« Ma ville est un Grand Jardin »\, fête de la nature \nSamedi 12 mai – Lancement de la fête « Ma ville est un Grand Jardin »\, fête de la nature \n\nSous le parrainage de Jean Mus\, architecte paysagiste \n Vendredi 4 mai – inauguration du Grand Jardin éphémère (Place du Grand Jardin)\n 18h : accueil et spectacle de danses indiennes\n 18h30 : visite du jardin en présence de Catherine Le Lan\, Maire de Vence\n 19h : cocktail bio \n Le Grand Jardin Éphémère ou le développement des sens\n Le jardin des senteurs\, des agrumes\, l’allée des pieds nus\, le jardin zen\, le jardin qui lit et sa boîte à livres\, les cabanes des pitchouns\, les statues de Danu … \n\n\n11h : instant musical par les jeunes du Conservatoire de Vence\n 11h30 : allocution de Catherine Le Lan\, Maire de Vence en présence de Jean Mus\,\n architecte paysagiste\, parrain de la manifestation\n 12h : apéritif bio \n Le Grand Jardin Éphémère\, la ferme pédagogique\, les ateliers et animations pour petits et grands\, la chasse au trésor\, l’espace pique-nique\, les dédicaces à l’Espace Culturel Leclerc\, les conférences à la Villa Alexandrine\, visite des jardins ouverts et les sorties Grandeur Nature. \n\nZOOM sur …Le jardin des enfants \n \n• Ateliers maquillage sur le thème de la nature par Récréartist\n• Ateliers créatifs à partir d’objets de récupération et de galets par l’association Pluie de Loisirs\n• Fabrication de bougies en cire d’abeille 100 % origine agriculture biologique\, par Natur’abelha\n• 15h00. Atelier Stop Motion. Venez créer un court métrage à partir d’un conte en apprenant à vous servir de Stop motion sur iPad. Pour les enfants de 8 à 12 ans\n• Ateliers d’Origami et de Quilling par Reven’art\n• Ateliers de fabrication de mini hôtels à insectes par les Jardins du Loup\n• 9h00 à 12h00 Ateliers des “Potes âgés”. Rempotage de plantes fleuries par les jeunes de la Maison de la Jeunesse  et des Loisirs\n• Ateliers de rempotage de plantules de palmiers par les Palmiers du Pays Vençois\n• Jeux pour reconnaître les animaux nocturnes par l’ANPCEN**\n• 10h30 et à 15h30 Contes et lectures\n• 10h00 : Cours de yoga animé par l’Atelier des Petits Nez \nLa Ferme Pédagogique\n• Présentation des animaux de la basse-cour : poules\, canards\, cochons d’Inde\, lapins\, cochons asiatiques\, chèvres\, âne et poney\nÀ hauteur d’enfants \nAccueils de loisirs péri et extrascolaires\n• Exposition photos et articles relatant le déroulement des ateliers “jardinage” au sein des différentes structures d’accueil péri et extrascolaires\n• Exposition sur la chenille processionnaire\, avec la LPO*\nMulti accueil Arman\, Multi accueil Véga\, Multi accueil Lou Pitchoun\n• Exposition photos des ateliers de jardinage avec les enfants des multi-accueil \n\nLa Chasse au Trésor par 123 Cat\nLa potion secrète ! \nRetrouvez les indices laissés par l’évêque Godeau pour reconstituer sa potion… Grande chasse au trésor dans la vieille ville de Vence. Un joli parcours qui ne demande qu’à être foulé de vos pieds d’enquêteurs chevronnés ! Des surprises pour les gourmands et des découvertes fort sympathiques à ne pas manquer même pour les Vençois ! \nInscriptions à la Chasse au Trésor ICI \n\nZOOM sur … Les Sorties Grandeur Nature \n\nDécouverte de la biodiversité ordinaire de ma rue par Fabrice Hendrikx. Deux sorties\n10h00 et 13h30 au départ du stand de l’Office de tourisme de Vence \n• Découverte et inventaire participatif des hirondelles et des martinets de Vence par l’association LPO*.\nUne sortie programmée à 15h30 au départ du stand de la LPO*. \n• Découverte des jardins partagés de l’espace Fernand Moutet par l’association Jardin des Familles :\ndeux sorties 10h00 et 15h00 au départ du stand de l’association Jardin des Familles \n• Présentation du traitement des palmiers à la Villa le Rêve par l’association Les Palmiers du Pays Vençois : \n14h00 : au départ du stand de l’association Les Palmiers du Pays Vençois \n• Observation du ciel étoilé au Col de Vence \n17h30 : Départ place du Grand Jardin : Randonnée ascensionnelle vers le Col de Vence (1h30)\n19h30 : Pique-nique participatif  suivi d’une séance spéciale “Etoiles Grandeur Nature” Biodiversité & ciel nocturne\, animée par F. Bailleul et deux animateurs de l’ANPCEN.\n• MINUIT : Bivouac\n\n \nInscriptions préalables à l’Office de Tourisme de Vence\n04 93 58 06 38 – Villa Alexandrine \n\nMais aussi … \nCYCLE DE CONFÉRENCES \nVilla Alexandrine – Salle de l’Europe\n• 14h00  : L’Atlas de Biodiversité Communale de Vence par Benjamin Salvarelli de l’antenne LPO des Alpes-Maritimes\n• 15h00 : La réglementation phytosanitaire par Patrice Miran\, 1er adjoint au Maire de Vence et Directeur du service Espaces Verts du Cannet\n• 16h00  : Le magnésium\, un allié forme et santé par Marie Novel\, Naturopathe \nVISITES DES JARDINS DE VENCE \nChâteau Saint-Martin & Spa\nLe Château Saint-Martin & Spa vous ouvre les portes de son jardin pour vous faire découvrir sa faune et sa flore méditerranéenne. 2 visites le matin 9h00 et 10h00. Enfants accompagnés / Animaux interdits\nJardins familiaux de Vosgelade\n2 visites à 15h00 et 16h00 \nInscriptions préalables à l’Office de Tourisme de Vence\n04 93 58 06 38 – Villa Alexandrine \nDEDICACES ESPACE CULTUREL LECLERC \nJean Mus pour son livre « Jardins méditerranéens contemporains »\nLuciano Melis pour son livre « L’arbre philosophe »\nBrigitte Dematteis pour ses livres « Petits jardins\, »De l’art à l’architecture du jardin »\, « Dialogue avec des jardins méditerranéens ».
URL:https://www.saintjeannet.org/evenement/lancement-de-ma-ville-est-un-grand-jardin-le-samedi-11-mai-a-11h/
LOCATION:Ville de Vence
ATTACH;FMTTYPE=image/jpeg:https://www.saintjeannet.org/wp-content/uploads/2018/05/Ma-ville-est-un-grand-jardin.jpg
END:VEVENT
BEGIN:VEVENT
DTSTART;TZID=Europe/Paris:20180513T090000
DTEND;TZID=Europe/Paris:20180513T113000
DTSTAMP:20260422T021251
CREATED:20171004T082858Z
LAST-MODIFIED:20171004T082858Z
UID:5261-1526202000-1526211000@www.saintjeannet.org
SUMMARY:Informations sur le chemin proposé par la Paroisse aux enfants
DESCRIPTION:La Paroisse ST Véran et ST Lambet propose les 2ème dimanches des mois (le matin) de 9h à 11h30 des informations sur le chemin proposé par la Paroisse aux enfants. \nLes rendez-vous : le 12 novembre\, le 10 décembre\, le 14 janvier 2018\, le 11 février\, le 11 mars\, le 08 avril\, le 13 mai et le 10 juin 2018. \nCoordonnées : Monsieur Louis Gibellin « Curé » 04.93.59.88.63 – Mail. louis9.gibellin@orange.fr
URL:https://www.saintjeannet.org/evenement/informations-chemin-propose-paroisse-aux-enfants-7/
LOCATION:FOUR A PAIN
END:VEVENT
BEGIN:VEVENT
DTSTART;TZID=Europe/Paris:20180515T080000
DTEND;TZID=Europe/Paris:20180529T170000
DTSTAMP:20260422T021251
CREATED:20180427T072403Z
LAST-MODIFIED:20180427T072403Z
UID:9451-1526371200-1527613200@www.saintjeannet.org
SUMMARY:Rencontres des Arts présente une exposition  de dessins\, peintures et techniques mixtes à Vence
DESCRIPTION:Rencontres des Arts présente une exposition de dessins\, peintures et techniques mixtes du : \n\nmardi 15 au mardi 29 mai – KIKIB et Gibert
URL:https://www.saintjeannet.org/evenement/rencontres-des-arts-presente-une-exposition-de-dessins-peintures-et-techniques-mixtes-a-vence/
LOCATION:Vence
ATTACH;FMTTYPE=image/jpeg:https://www.saintjeannet.org/wp-content/uploads/2018/04/Affiche-Regence-2018-A4-e1524817172312.jpg
END:VEVENT
BEGIN:VEVENT
DTSTART;TZID=Europe/Paris:20180515T190000
DTEND;TZID=Europe/Paris:20180515T220000
DTSTAMP:20260422T021251
CREATED:20180412T081555Z
LAST-MODIFIED:20180412T081555Z
UID:8997-1526410800-1526421600@www.saintjeannet.org
SUMMARY:Conférence à la Coupole de La Gaude le mardi 15 mai à 19h sur la "Cryptomonnaie"
DESCRIPTION:Le club Micro-Informatique et le centre culturel de la Gaude organisent une nouvelle conférence débat le mardi 15 mai 2018 à 19h (La Coupole – Salle cinéma) \, ouverte à tout le monde et à entrée gratuite\, sur un sujet très à la mode : \nLa Cryptomonnaie Bitcoin et le concept de Blockchain. Nous vous serions très reconnaissant si vous pouviez en informer les habitants de Saint Jeannet parmi lesquels il y en a surement qui pourraient être intéressés par le sujet. Vous trouverez en attachement deux versions de l’affichette; une version jpg et une version pdf que vous pourrez utiliser. \nSi vous voulez d’autres informations alors n’hésitez surtout pas à me contacter. \nNous vous remercions d’avance et vous souhaitons une bonne soirée. \nRené SATOS\nPrésident du club IBM Multimédia et du club Micro-informatique
URL:https://www.saintjeannet.org/evenement/conference-a-la-coupole-de-la-gaude-le-mardi-15-mai-a-19h-sur-la-cryptomonnaie/
LOCATION:LA COUPOLE DE LA GAUDE
ATTACH;FMTTYPE=image/jpeg:https://www.saintjeannet.org/wp-content/uploads/2018/04/Affiche-Bitcoin-e1523524412927.jpg
END:VEVENT
BEGIN:VEVENT
DTSTART;TZID=Europe/Paris:20180519T090000
DTEND;TZID=Europe/Paris:20180519T163000
DTSTAMP:20260422T021251
CREATED:20180511T081002Z
LAST-MODIFIED:20180511T081002Z
UID:9649-1526720400-1526747400@www.saintjeannet.org
SUMMARY:Fête de la nature et des jardins - samedi 19 mai à Venanson
DESCRIPTION:
URL:https://www.saintjeannet.org/evenement/fete-de-la-nature-et-des-jardins-samedi-19-mai-a-venanson/
LOCATION:Mairie de Venanson
ATTACH;FMTTYPE=image/png:https://www.saintjeannet.org/wp-content/uploads/2018/05/Blazon-Mairie-de-Venanson.png
END:VEVENT
BEGIN:VEVENT
DTSTART;TZID=Europe/Paris:20180520T080000
DTEND;TZID=Europe/Paris:20180520T170000
DTSTAMP:20260422T021251
CREATED:20180403T103650Z
LAST-MODIFIED:20180516T070627Z
UID:8904-1526803200-1526835600@www.saintjeannet.org
SUMMARY:Vide grenier 20 mai 2018 - Stade de football de Saint-Jeannet
DESCRIPTION:L’Aventure Pour Tous organise son Vide Grenier le dimanche 20 mai 2018 au Stade de foot de Saint-Jeannet \nRéservation : 07 78 68 39 22
URL:https://www.saintjeannet.org/evenement/vide-grenier-20-mai-2018-stade-de-football-de-saint-jeannet/
LOCATION:stade de football de saint jeannet
END:VEVENT
BEGIN:VEVENT
DTSTART;VALUE=DATE:20180525
DTEND;VALUE=DATE:20180526
DTSTAMP:20260422T021251
CREATED:20180207T101427Z
LAST-MODIFIED:20180207T101805Z
UID:7990-1527206400-1527292799@www.saintjeannet.org
SUMMARY:La 18ème édition de la fête des voisins le vendredi 25 mai
DESCRIPTION:Pour sa 18ème édition\, « La Fête des Voisins »\, a réuni le vendredi 19 mai dernier 9 millions de participants en France. Soutenu par l’Association des Maires de France\, ainsi que l’Union Sociale pour l’Habitat\, ce rendez-vous\, qui est le premier événement citoyen en France et en Europe\, se déroulera cette année le : \nVendredi 25 mai 2018\nDe très nombreux habitants de votre commune participent déjà à la Fête des Voisins. En devenant partenaire officiel\, vous contribuez à amplifier cette dynamique pour renforcer le lien social et lutter contre l’indifférence et l’isolement. \nPour accroître la mobilisation\, l’implication de la mairie est indispensable car nous ne pouvons pas répondre à toutes les demandes individuelles. \nCet événement est un catalyseur générateur de milliers de situations d’entraide\, permettant à la fois l’expression politique (sur les valeurs humaines et sociales que vous souhaitez développer)\, l’implication des citoyens sur un thème positif ainsi que l’identification de bonnes volontés. La mairie développe une communication de mobilisation\, relaie la manifestation et distribue le matériel que nous vous fournissons\, les habitants étant les acteurs de la Fête. \nVous trouverez la plaquette de présentation la Fête des Voisins en cliquant sur ce lien : \nLa Fête des Voisins \nEn vous inscrivant dans le dispositif\, vous bénéficierez d’une assistance logistique\, d’une campagne de presse nationale\, du matériel labellisé « Fête des Voisins » : T-shirts\, ballons\, gobelets\, nappes (en fonction du nombre d’habitants)\, ainsi que des outils imprimés : affiches\, tracts\, invitations\, badges autocollants (en quantité illimitée). \nVous intégrez aussi un réseau de plus de 1250 mairies et bailleurs sociaux de toute la France\, au sein duquel vous bénéficiez d’échanges d’expériences et de bonnes pratiques. \nEnfin\, vous pouvez être éligible au label européen « Ville conviviale – Ville solidaire ». \nPour vous inscrire\, il vous suffit de nous retourner le bon d’inscription officiel. \nPour découvrir en image le déroulement de votre inscription\, cliquez sur ce lien : Vidéo de la Fête des Voisins
URL:https://www.saintjeannet.org/evenement/18eme-edition-de-fete-voisins-vendredi-25-mai/
END:VEVENT
BEGIN:VEVENT
DTSTART;TZID=Europe/Paris:20180526T100000
DTEND;TZID=Europe/Paris:20180526T120000
DTSTAMP:20260422T021251
CREATED:20180525T135354Z
LAST-MODIFIED:20180525T135354Z
UID:9756-1527328800-1527336000@www.saintjeannet.org
SUMMARY:Atelier infos - Objectifs zéro déchets le samedi 26 mai de 10h à 12h au jardin participatif
DESCRIPTION:Nous vous accueillons demain matin au Jardin participatif de Saint-Jeannet \nsamedi 26 mai de 10h à 12h pour un \nATELIER INFOS – OBJECTIF ZÉRO DÉCHETS\nThème : apprendre à fabriquer sa lessive et ses produits d’entretien \nComment faire plus simple avec des produits naturels et réduire les montagnes de déchets que nous laissons derrière nous ! \nL’idée\, ce n’est pas de recycler plus\, c’est de recycler moins !  \nÇa vous paraît bizarre ? Passer nous voir pour les explications\, assister aux démonstrations\, échanger et partager les astuces. \nAu plaisir de vous revoir et merci de relayer cette info\, \nBien cordialement\, \nl’équipe des Jardins et Ruchers des Baous
URL:https://www.saintjeannet.org/evenement/atelier-infos-objectifs-zero-dechets-le-samedi-26-mai-de-10h-a-12h-au-jardin-participatif/
LOCATION:Jardin Lazare\, CD 18 - Parking René Veyssi\, Saint Jeannet\, 06640\, France
ATTACH;FMTTYPE=image/jpeg:https://www.saintjeannet.org/wp-content/uploads/2018/05/31947463_1450533108386663_9064285387354013696_n.jpg
END:VEVENT
BEGIN:VEVENT
DTSTART;TZID=Europe/Paris:20180531T080000
DTEND;TZID=Europe/Paris:20180614T170000
DTSTAMP:20260422T021251
CREATED:20180427T072534Z
LAST-MODIFIED:20180427T072534Z
UID:9454-1527753600-1528995600@www.saintjeannet.org
SUMMARY:Rencontres des Arts présente une exposition de dessins\, peintures et techniques mixtes à Vence
DESCRIPTION:Rencontres des Arts présente une exposition de dessins\, peintures et techniques mixtes du : \n\njeudi 31 mai au jeudi 14 juin – Jeanne MASURE et Patricia FARINELLI
URL:https://www.saintjeannet.org/evenement/rencontres-des-arts-presente-une-exposition-de-dessins-peintures-et-techniques-mixtes-a-vence-2/
LOCATION:Vence
ATTACH;FMTTYPE=image/jpeg:https://www.saintjeannet.org/wp-content/uploads/2018/04/Affiche-Regence-2018-A4-e1524817172312.jpg
END:VEVENT
END:VCALENDAR