BEGIN:VCALENDAR
VERSION:2.0
PRODID:-//Saint-Jeannet - ECPv6.0.8//NONSGML v1.0//EN
CALSCALE:GREGORIAN
METHOD:PUBLISH
X-ORIGINAL-URL:https://www.saintjeannet.org
X-WR-CALDESC:évènements pour Saint-Jeannet
REFRESH-INTERVAL;VALUE=DURATION:PT1H
X-Robots-Tag:noindex
X-PUBLISHED-TTL:PT1H
BEGIN:VTIMEZONE
TZID:Europe/Paris
BEGIN:DAYLIGHT
TZOFFSETFROM:+0100
TZOFFSETTO:+0200
TZNAME:CEST
DTSTART:20180325T010000
END:DAYLIGHT
BEGIN:STANDARD
TZOFFSETFROM:+0200
TZOFFSETTO:+0100
TZNAME:CET
DTSTART:20181028T010000
END:STANDARD
END:VTIMEZONE
BEGIN:VEVENT
DTSTART;TZID=Europe/Paris:20180114T090000
DTEND;TZID=Europe/Paris:20180114T113000
DTSTAMP:20260422T090716
CREATED:20171004T082206Z
LAST-MODIFIED:20171004T082206Z
UID:5253-1515920400-1515929400@www.saintjeannet.org
SUMMARY:Informations sur le chemin proposé par la Paroisse aux enfants
DESCRIPTION:La Paroisse ST Véran et ST Lambet propose les 2ème dimanches des mois (le matin) de 9h à 11h30 des informations sur le chemin proposé par la Paroisse aux enfants. \nLes rendez-vous : le 12 novembre\, le 10 décembre\, le 14 janvier 2018\, le 11 février\, le 11 mars\, le 08 avril\, le 13 mai et le 10 juin 2018. \nCoordonnées : Monsieur Louis Gibellin « Curé » 04.93.59.88.63 – Mail. louis9.gibellin@orange.fr
URL:https://www.saintjeannet.org/evenement/informations-chemin-propose-paroisse-aux-enfants-3/
END:VEVENT
BEGIN:VEVENT
DTSTART;TZID=Europe/Paris:20180119T093000
DTEND;TZID=Europe/Paris:20180121T173000
DTSTAMP:20260422T090716
CREATED:20180118T085611Z
LAST-MODIFIED:20180118T085611Z
UID:7572-1516354200-1516555800@www.saintjeannet.org
SUMMARY:Compagnons du devoir "Journées portes ouvertes" du 19 au 21 janvier à Cagnes sur mer
DESCRIPTION:COMPAGNONS DU DEVOIR \nJournées portes ouvertes du 19 au 21 janvier de 9h30 à 17h30 – chemin des travails Cagnes sur Mer \nLes-Compagnons-du-Devoir-Journees-Portes-Ouvertes-Les-19-20-et-21-janvier-2018-de-9h30-a-17h30 \nLes Compagnons du Devoir proposent aux jeunes en quête d’orientation de s’épanouir dans une formation originale et un métier concret. Ils ouvriront les portes de leurs maisons les 19\, 20 et 21 janvier 2018 de 9h30 à 17h30 afin de faire découvrir leur formation par le voyage et leurs 30 métiers.
URL:https://www.saintjeannet.org/evenement/compagnons-devoir-journees-portes-ouvertes-19-21-janvier-a-cagnes-mer/
LOCATION:Cagnes sur mer\, chemin des travails\, Cagnes sur mer
ATTACH;FMTTYPE=image/jpeg:https://www.saintjeannet.org/wp-content/uploads/2018/01/téléchargement-3.jpg
END:VEVENT
BEGIN:VEVENT
DTSTART;TZID=Europe/Paris:20180119T203000
DTEND;TZID=Europe/Paris:20180119T203000
DTSTAMP:20260422T090716
CREATED:20171227T142405Z
LAST-MODIFIED:20171227T142405Z
UID:7292-1516393800-1516393800@www.saintjeannet.org
SUMMARY:Le Lions Club des Balcons de Provence vous propose une comédie au profit du handicap
DESCRIPTION:Thème : BIENVENUE AU CLUB \nLe vendredi 19 janvier à 20h30 dans la salle Saint Jean Baptiste (parking de La Ferrage). \nLes tarifs : 10 euros pour les adultes et 5 euros pour les enfants (-12 ans). Réservation : 06 11 48 56 37. Places limitées.
URL:https://www.saintjeannet.org/evenement/lions-club-balcons-de-provence-propose-comedie-profit-handicap/
LOCATION:chapelle saint jean baptiste\, rue de La Ferrage\, SAINT-JEANNET\, 06640
END:VEVENT
BEGIN:VEVENT
DTSTART;TZID=Europe/Paris:20180120T133000
DTEND;TZID=Europe/Paris:20180120T163000
DTSTAMP:20260422T090716
CREATED:20180118T195905Z
LAST-MODIFIED:20180118T195936Z
UID:7580-1516455000-1516465800@www.saintjeannet.org
SUMMARY:"Conte" avec les enfants (et les plus grands!)
DESCRIPTION:Après avoir partagé par deux fois un moment « Conte » avec les enfants (et les plus grands!) j’avais très envie de réitérer l’expérience.\nJe vous donne donc RDV samedi 20 janvier à 13h45 à la « Boulange…rie » de Saint Jeannet\, pour partager ce moment avec vous\nJ’ai hâte ! ?\nN’hésitez pas à partager l’info si vous en avez envie ! Et prévenez moi de votre venue si vous le souhaitez (pour l’organisation)\nA bientôt ! ☺️\nMarjorie
URL:https://www.saintjeannet.org/evenement/conte-enfants-plus-grands/
LOCATION:Boulangerie Saint Jeannet village
END:VEVENT
BEGIN:VEVENT
DTSTART;TZID=Europe/Paris:20180122T080000
DTEND;TZID=Europe/Paris:20180215T170000
DTSTAMP:20260422T090716
CREATED:20180122T075913Z
LAST-MODIFIED:20180122T203925Z
UID:7617-1516608000-1518714000@www.saintjeannet.org
SUMMARY:Fiche inscription aux Talents Nuits du Sud jusqu’au 15 février 2018...Tentez votre chance
DESCRIPTION:https://www.facebook.com/festivalnuitsdusud/posts/10155985118191788
URL:https://www.saintjeannet.org/evenement/fiche-dinscription-aux-talents-nuits-sud-jusquau-15-fevrier-2018-tentez-chance/
LOCATION:VENCE
ATTACH;FMTTYPE=image/jpeg:https://www.saintjeannet.org/wp-content/uploads/2018/01/11822817_10153472872936788_5138943291830573270_n.jpg
END:VEVENT
BEGIN:VEVENT
DTSTART;TZID=Europe/Paris:20180124T160000
DTEND;TZID=Europe/Paris:20180124T170000
DTSTAMP:20260422T090716
CREATED:20180123T095542Z
LAST-MODIFIED:20180123T095542Z
UID:7644-1516809600-1516813200@www.saintjeannet.org
SUMMARY:OGC Nice football : Alassane Plea et Christophe Jallet participeront à une séance de dédicaces
DESCRIPTION:Ce mercredi 24 janvier\,  Alassane Plea et Christophe Jallet participeront à une séance de dédicaces qui se déroulera au Centre Optique des Mutuelles du Soleil (34 Avenue Pastorelli\, 06000 Nice). \nLes deux Aiglons se rendront en plein centre-ville pour échanger avec leurs supporters. \nMaillons forts de l’effectif de Lucien Favre\, le robuste attaquant et le latéral international seront disponibles à partir de 16h. \nIls en profiteront pour évoquer l’actualité rouge et noire et poser pour quelques photos souvenirs…
URL:https://www.saintjeannet.org/evenement/ogc-nice-football-alassane-plea-christophe-jallet-participeront-a-seance-de-dedicaces/
LOCATION:Centre Optique des Mutuelles du Soleil \, 34 avenue du soleil\, 06000 Nice
END:VEVENT
BEGIN:VEVENT
DTSTART;TZID=Europe/Paris:20180124T203000
DTEND;TZID=Europe/Paris:20180124T203000
DTSTAMP:20260422T090716
CREATED:20180124T083028Z
LAST-MODIFIED:20180124T083028Z
UID:7670-1516825800-1516825800@www.saintjeannet.org
SUMMARY:Championnat d'Europe de Handball France-Croatie
DESCRIPTION:EHF EURO 2018 \nFrance – Croatie au championnat de d’Europe de Handball à 20h30 mercredi 24 janvier 2018. Match qualificatif pour la 1/2 finale.\n\n? beIN SPORTS France 2\n#BleuetFier #HypnoticGame
URL:https://www.saintjeannet.org/evenement/championnat-deurope-de-handball-france-croatie/
ATTACH;FMTTYPE=image/jpeg:https://www.saintjeannet.org/wp-content/uploads/2018/01/26733947_2011675655749388_1611221673342752646_n.jpg
END:VEVENT
BEGIN:VEVENT
DTSTART;TZID=Europe/Paris:20180126T203000
DTEND;TZID=Europe/Paris:20180126T203000
DTSTAMP:20260422T090716
CREATED:20180115T110113Z
LAST-MODIFIED:20180116T132716Z
UID:7492-1516998600-1516998600@www.saintjeannet.org
SUMMARY:Le rendez-vous culturel du vendredi 26 janvier
DESCRIPTION:Evènement du vendredi 26 janvier /  Film documentaire « Chrétiens d’Algérie\, sur les chemins de la rencontre » : \n\nAffiche du film en visuel\n5 articles parus au sujet du film\nPour le texte / partie rédactionnelle\, tu peux reprendre le paragraphe traitant du film dans le communiqué général de la saison culturelle :\n\n« Saint-Jeannet lance de nouveaux Rendez-vous culturels à partir de cette année ». \nChaque mois\, de janvier à avril\, une soirée sera proposée salle Saint Jean-Baptiste\, toujours avec la volonté de croiser les disciplines artistiques et de soutenir les projets locaux. Ces « Rendez-vous » seront aussi des occasions créées pour se rencontrer\, discuter\, découvrir\, ou simplement être embarqué dans de jolies histoires… \nCette nouvelle programmation débutera le vendredi 26 janvier avec la projection du film documentaire de Jean Dulon « Les Chrétiens d’Algérie\, sur les chemins de la rencontre »\, à 20h30. Le réalisateur Saint Jeannois montre\, à travers les témoignages de chrétiens de 4 diocèses\, le quotidien d’hommes et de femmes vivant dans la fraternité et le partage. Un temps d’échange est prévu en fin de projection\, en présence du réalisateur ainsi que d’une partie de l’équipe française. \nL’entrée de 5€ sera reversée au collectif Baous Vintimille qui apporte son aide aux migrants en collaboration avec Caritas à Vintimille (repas\, soins d’urgences)\, mais aussi Roya Citoyenne et Habitat et Citoyenneté à Nice. » \nUne saison qui inclut également 2 stages d’initiation artistique dans le cadre de la soirée Ukulélé\, autour de la danse et de la musique\, et enfin une exposition de photographies et poèmes de Dominique Duyck dans le cadre du Printemps des Poètes. \nLe dépliant \nDépliant Saison Janv à avril 2018 \nTout le programme est à retrouver sur le site de la commune www.saintjeannet.org \nInformations – Service Tourisme et Culture – 04 93 24 73 83
URL:https://www.saintjeannet.org/evenement/rendez-culturel-vendredi-26-janvier/
LOCATION:chapelle saint jean baptiste\, rue de La Ferrage\, SAINT-JEANNET\, 06640
END:VEVENT
END:VCALENDAR