BEGIN:VCALENDAR
VERSION:2.0
PRODID:-//Saint-Jeannet - ECPv6.0.8//NONSGML v1.0//EN
CALSCALE:GREGORIAN
METHOD:PUBLISH
X-ORIGINAL-URL:https://www.saintjeannet.org
X-WR-CALDESC:évènements pour Saint-Jeannet
REFRESH-INTERVAL;VALUE=DURATION:PT1H
X-Robots-Tag:noindex
X-PUBLISHED-TTL:PT1H
BEGIN:VTIMEZONE
TZID:Europe/Paris
BEGIN:DAYLIGHT
TZOFFSETFROM:+0100
TZOFFSETTO:+0200
TZNAME:CEST
DTSTART:20170326T010000
END:DAYLIGHT
BEGIN:STANDARD
TZOFFSETFROM:+0200
TZOFFSETTO:+0100
TZNAME:CET
DTSTART:20171029T010000
END:STANDARD
END:VTIMEZONE
BEGIN:VEVENT
DTSTART;VALUE=DATE:20171201
DTEND;VALUE=DATE:20171202
DTSTAMP:20260422T103948
CREATED:20171114T154217Z
LAST-MODIFIED:20171128T133253Z
UID:5896-1512086400-1512172799@www.saintjeannet.org
SUMMARY:Lancement des animations de Noël
DESCRIPTION:En décembre\, venez déambuler au milieu des sapins du village de Saint-Jeannet et déposer votre lettre au Père Noël\, place de l’église. \n1er décembre – Lancement animations de Noël \n18h – Place de l’église \nInauguration illuminations et boite aux lettres du Père Noël\, annonce des événements de décembre autour d’un vin chaud puis dégustations chez les commerçants. \nAnimation musicale par Michel SAVARY et son orgue de barbarie de 18h à 20h? \nDétail ci-dessous \nPlanning de toutes les animations de Noël \n 
URL:https://www.saintjeannet.org/evenement/lancement-animations-de-noel/
LOCATION:Place de l’église\, SAINT JEANNET\, 06640
ATTACH;FMTTYPE=image/jpeg:https://www.saintjeannet.org/wp-content/uploads/2017/09/affiche-noël-2017-A4-RV-page-001.jpg
END:VEVENT
BEGIN:VEVENT
DTSTART;VALUE=DATE:20171202
DTEND;VALUE=DATE:20171203
DTSTAMP:20260422T103948
CREATED:20171115T101740Z
LAST-MODIFIED:20171128T133346Z
UID:5901-1512172800-1512259199@www.saintjeannet.org
SUMMARY:Vente atelier les montres du Baou - idées cadeaux de Noël
DESCRIPTION:Les ateliers de Noël de Cécile CIARAMITARO les 2\, 16 et 17 décembre. \nhttp://www.cecile-ciaramitaro.fr/
URL:https://www.saintjeannet.org/evenement/vente-atelier-montres-baou-idees-cadeaux-de-noel/
LOCATION:VILLAGE DE SAINT JEANNET
ATTACH;FMTTYPE=image/jpeg:https://www.saintjeannet.org/wp-content/uploads/2017/11/Image-Cécile.jpg
END:VEVENT
BEGIN:VEVENT
DTSTART;VALUE=DATE:20171202
DTEND;VALUE=DATE:20171203
DTSTAMP:20260422T103948
CREATED:20170908T105434Z
LAST-MODIFIED:20171128T133543Z
UID:4762-1512172800-1512259199@www.saintjeannet.org
SUMMARY:Eveil musical et Contes pour enfants
DESCRIPTION:L’association CAP DES BAOUS organise une après-midi « EVEIL MUSICAL ET CONTES » le 2 décembre de 14h à 17h dans la salle Malaussène. \nDécouverte des instruments musicaux\, des sons et de contes pour les enfants de 5 à 10 ans. \nContact : Gérard BARBETTI Tél.06.16.97.74.76 – Mail : capdesbaous@gmail.com
URL:https://www.saintjeannet.org/evenement/eveil-musical-contes-enfants/
ATTACH;FMTTYPE=image/png:https://www.saintjeannet.org/wp-content/uploads/2017/09/dacd7b_191ecb07d141415892fe3d17e3d3c600.png
END:VEVENT
BEGIN:VEVENT
DTSTART;VALUE=DATE:20171202
DTEND;VALUE=DATE:20171203
DTSTAMP:20260422T103948
CREATED:20171107T124732Z
LAST-MODIFIED:20171128T133459Z
UID:5794-1512172800-1512259199@www.saintjeannet.org
SUMMARY:Atelier biscuits et pain d'épices de NOEL avec les Ruchers des Baous...
DESCRIPTION:DATE A RETENIR : Le samedi 2 décembre au jardin participatif « LES RUCHERS DES BA0US » à SAINT JEANNET : « Atelier biscuits et pain d’épices de NOEL ! » \n2 ateliers : \n– Le matin de 9h30 à 12h\n– L’après midi de 14h à 16h30 \n8 personnes par atelier maximum \nParticipation : 5€ (chocolat chaud de Noël offert) \nInscriptions au 06 15 40 93 24 ou 04 93 24 73 85 \nEN CAS DE PLUIE il se feront au village dans la salle du four à pain\nsi vous le pouvez munissez vous d’un tablier et d’un rouleau à pâtisseries …. Merci à tous les participant de ce formidable engouement pour cet atelier !
URL:https://www.saintjeannet.org/evenement/atelier-biscuits-pain-depices-de-noel-ruchers-baous/
LOCATION:Jardin Lazare\, CD 18 - Parking René Veyssi\, Saint Jeannet\, 06640\, France
ATTACH;FMTTYPE=image/jpeg:https://www.saintjeannet.org/wp-content/uploads/2017/11/23244060_1290783471028295_5801651231833943208_n.jpg
END:VEVENT
BEGIN:VEVENT
DTSTART;TZID=Europe/Paris:20171202T140000
DTEND;TZID=Europe/Paris:20171202T180000
DTSTAMP:20260422T103948
CREATED:20171128T123749Z
LAST-MODIFIED:20171128T123749Z
UID:6299-1512223200-1512237600@www.saintjeannet.org
SUMMARY:La maison de santé de La Gaude vous ouvre ses portes
DESCRIPTION:INVITATION PORTES OUVERTES A LA MAISON DE SANTE LA GAUDE \n            SAMEDI 2 DÉCEMBRE DE 14h à 18h pour rencontrer les intervenants Coach Mental\, Coach Physique\, Ostéopathe\, Sophrologue\, Yogi \nL’équipe vous invite personnellement à venir nous voir et \nvous remercie pour votre bienveillance. \nYvette \nCoach Mental
URL:https://www.saintjeannet.org/evenement/maison-de-sante-de-gaude-ouvre-portes/
ATTACH;FMTTYPE=image/jpeg:https://www.saintjeannet.org/wp-content/uploads/2017/11/Affiche-portes-ouvertes-page-001.jpg
END:VEVENT
BEGIN:VEVENT
DTSTART;TZID=Europe/Paris:20171203T133000
DTEND;TZID=Europe/Paris:20171203T180000
DTSTAMP:20260422T103948
CREATED:20170908T110939Z
LAST-MODIFIED:20171116T091920Z
UID:4765-1512307800-1512324000@www.saintjeannet.org
SUMMARY:Loto San Peïre
DESCRIPTION:L’association Saint Jeannoise des Amis de la chapelle San Peïre organise son LOTO le dimanche 3 décembre de 13h30 à 18h dans la salle Saint Jean Baptiste. \nPersonne à contacter : Thérèse ARNAUDON Tél.04.92.11.02.48 où 07.81.01.11.23 \n 
URL:https://www.saintjeannet.org/evenement/loto-san-peire/
LOCATION:chapelle saint jean baptiste\, rue de La Ferrage\, SAINT-JEANNET\, 06640
ATTACH;FMTTYPE=image/jpeg:https://www.saintjeannet.org/wp-content/uploads/2017/09/carton-loto-300x225.jpg
END:VEVENT
BEGIN:VEVENT
DTSTART;VALUE=DATE:20171207
DTEND;VALUE=DATE:20171208
DTSTAMP:20260422T103948
CREATED:20171129T101909Z
LAST-MODIFIED:20171129T101909Z
UID:6336-1512604800-1512691199@www.saintjeannet.org
SUMMARY:Devenir parents (rencontre avec les partenaires de la petite enfance) La Gaude
DESCRIPTION:DEVENIR PARENTS\nRencontre avec les partenaires de la petite enfance \n\nle 7 décembre 2017\,\nle 1er mars 2018\,\nle 07 juin 2018\n\nRendez-vous 14h salle du lien Gaudois La Gaude \nRenseignements et inscriptions CAF : 04.92.29.41.72 – Crèche : 04.93.24.91.54
URL:https://www.saintjeannet.org/evenement/devenir-parents-rencontre-partenaires-de-petite-enfance-gaude/
ATTACH;FMTTYPE=image/jpeg:https://www.saintjeannet.org/wp-content/uploads/2017/11/devenirparents-page-001.jpg
END:VEVENT
BEGIN:VEVENT
DTSTART;TZID=Europe/Paris:20171210T090000
DTEND;TZID=Europe/Paris:20171210T113000
DTSTAMP:20260422T103948
CREATED:20171004T082025Z
LAST-MODIFIED:20171004T082025Z
UID:5251-1512896400-1512905400@www.saintjeannet.org
SUMMARY:Informations sur le chemin proposé par la Paroisse aux enfants
DESCRIPTION:La Paroisse ST Véran et ST Lambet propose les 2ème dimanches des mois (le matin) de 9h à 11h30 des informations sur le chemin proposé par la Paroisse aux enfants. \nLes rendez-vous : le 12 novembre\, le 10 décembre\, le 14 janvier 2018\, le 11 février\, le 11 mars\, le 08 avril\, le 13 mai et le 10 juin 2018. \nCoordonnées : Monsieur Louis Gibellin « Curé » 04.93.59.88.63 – Mail. louis9.gibellin@orange.fr
URL:https://www.saintjeannet.org/evenement/informations-chemin-propose-paroisse-aux-enfants-2/
LOCATION:FOUR A PAIN
END:VEVENT
BEGIN:VEVENT
DTSTART;TZID=Europe/Paris:20171213T150000
DTEND;TZID=Europe/Paris:20171213T180000
DTSTAMP:20260422T103948
CREATED:20171208T110210Z
LAST-MODIFIED:20171208T125045Z
UID:6695-1513177200-1513188000@www.saintjeannet.org
SUMMARY:Spectacle "Noël à pleins tubes"...entrée libre
DESCRIPTION:Vite\, vite\, la neige tombe ! C’est Noël ! \nMercredi 13 décembre à 15h – Salle Saint Jean-Baptiste – Entrée libre\nMarmonette et Pipelette sont prêtes à tout pour se mettre dans l’ambiance de Noël. L’une ne jure que par sa liste de cadeaux et l’arrivée du Père Noël\, l’autre se réjouit du temps des histoires d’hiver à se raconter. \nMais voilà qu’une rumeur court : le Père Noël est parti en voyage à l’autre bout de la terre\, au soleil et il aurait l’intention de ne pas distribuer de cadeaux cette année ! Les médias s’affolent ! \nA l’allure d’un marathon de notes et de mots\, Marmonette et Pipelette vont tout imaginer pour décider le Père Noël à revenir auprès des enfants ! \nCe spectacle tendre\, original et décalé revisite avec dynamisme les tubes de Noël (traditionnel\, rétro et moderne) et des contes d’hiver. \nVivez un spectacle drôle\, interactif et à pleins tubes dans lequel les enfants et la famille seront enchantés par le meilleur de Noël en histoires et en chansons ! \nLes photos \n\nUn goûter sera offert à la fin du spectacle
URL:https://www.saintjeannet.org/evenement/spectacle-de-noel-entree-libre/
LOCATION:chapelle saint jean baptiste\, rue de La Ferrage\, SAINT-JEANNET\, 06640
ATTACH;FMTTYPE=image/jpeg:https://www.saintjeannet.org/wp-content/uploads/2017/12/Affiche_Noel_OK.jpg
END:VEVENT
BEGIN:VEVENT
DTSTART;TZID=Europe/Paris:20171214T190000
DTEND;TZID=Europe/Paris:20171214T230000
DTSTAMP:20260422T103948
CREATED:20171207T092411Z
LAST-MODIFIED:20171207T092411Z
UID:6644-1513278000-1513292400@www.saintjeannet.org
SUMMARY:Afterwork des Baous
DESCRIPTION:J-7\nJeudi 14 Décembre dès 19h à GATTIÈRES (06) \nNous attendons plus de 200 personnes : chefs d’entreprise\, freelance\, employés de petites/moyennes/grandes entreprises\, recruteurs\, personnes en recherche de stage ou d’emploi\, artistes indépendants\, commerçants de nos villages … ET VOUS ? \n\nAMBIANCE MUSICALE \nNETWORKING\n1 PLACE EN CRECHE D’UNE VALEUR DE 13’500€ OFFERTE PAR PEOPLE&BABY\n________\nParking sur place et navette.\nRéservation obligatoire par email sur afterwork@smart-clic.fr
URL:https://www.saintjeannet.org/evenement/afterwork-des-baous/
LOCATION:La Merenda de la place Gattières
ATTACH;FMTTYPE=image/png:https://www.saintjeannet.org/wp-content/uploads/2017/12/adb2.png
END:VEVENT
BEGIN:VEVENT
DTSTART;TZID=Europe/Paris:20171216T080000
DTEND;TZID=Europe/Paris:20171217T170000
DTSTAMP:20260422T103948
CREATED:20171115T102458Z
LAST-MODIFIED:20171115T102458Z
UID:5905-1513411200-1513530000@www.saintjeannet.org
SUMMARY:Idées cadeaux pour Noël avec Cécile CIARAMITARO
DESCRIPTION:Les ateliers de Noël de Cécile CIARAMITARO les 16 et 17 décembre. \nhttp://www.cecile-ciaramitaro.fr/
URL:https://www.saintjeannet.org/evenement/idees-cadeaux-noel-cecile-ciaramitaro/
LOCATION:VILLAGE DE SAINT JEANNET
ATTACH;FMTTYPE=image/jpeg:https://www.saintjeannet.org/wp-content/uploads/2017/11/Image-Cécile.jpg
END:VEVENT
BEGIN:VEVENT
DTSTART;TZID=Europe/Paris:20171216T133000
DTEND;TZID=Europe/Paris:20171216T173000
DTSTAMP:20260422T103948
CREATED:20171114T144555Z
LAST-MODIFIED:20171115T111207Z
UID:5886-1513431000-1513445400@www.saintjeannet.org
SUMMARY:Atelier de Noël
DESCRIPTION:Marie-Rose ABATE organise un atelier de Noël dans la salle Malaussène de 13h30 à 17h30. \nCoordonnées : Marie-Rose ABATE – tél.06.66.65.17.56 \nInscriptions par Mail à : marie_rose.abate@aliceadsl.fr  \nVenez nombreux !
URL:https://www.saintjeannet.org/evenement/atelier-de-noel-2/
LOCATION:Salle Malaussène
ATTACH;FMTTYPE=image/jpeg:https://www.saintjeannet.org/wp-content/uploads/2017/11/images.jpg
END:VEVENT
BEGIN:VEVENT
DTSTART;TZID=Europe/Paris:20171217T090000
DTEND;TZID=Europe/Paris:20171217T170000
DTSTAMP:20260422T103948
CREATED:20171124T140200Z
LAST-MODIFIED:20171124T140200Z
UID:6207-1513501200-1513530000@www.saintjeannet.org
SUMMARY:Venez construire un escalier en pierres sèches !
DESCRIPTION:DIMANCHE 17 DÉCEMBRE – Venez construire un escalier en pierres sèches !\nAu cours de ce chantier participatif\, de 9h00 à 16h30 (Accueil café à 8h45) vous pourrez apprendre à construire un escalier en pierres sèches avec des professionnels et partager un moment convivial à l’approche de Noël\nL’association préparera :\nAccueil café\nSoupe\, fromages et pain\nVin chaud et douceurs de Noël\nLes participants pourront apporter un plat et/ou une boisson\nParticipation gratuite. Pensez à prendre des gants et chaussures protectrices fermées \nGeorgette
URL:https://www.saintjeannet.org/evenement/venez-construire-escalier-pierres-seches/
ATTACH;FMTTYPE=image/jpeg:https://www.saintjeannet.org/wp-content/uploads/2017/11/23843498_1306498279456814_992799626079844430_n.jpg
END:VEVENT
BEGIN:VEVENT
DTSTART;TZID=Europe/Paris:20171217T143000
DTEND;TZID=Europe/Paris:20171217T220000
DTSTAMP:20260422T103948
CREATED:20170908T133357Z
LAST-MODIFIED:20171116T091316Z
UID:4786-1513521000-1513548000@www.saintjeannet.org
SUMMARY:Remise des paniers de Noël
DESCRIPTION:L’association Saint Jeannet Pétanque organise une remise de paniers de Noël le 17 décembre de 14h30 à22h au clos de boules. \nCorrespondant : Stéphan ACHOUR Tél.06.16.24.66.29 Mail.earlaplumeblanche@orange.fr
URL:https://www.saintjeannet.org/evenement/remise-panniers-de-noel/
LOCATION:Clos de boules de Saint Jeannet
ATTACH;FMTTYPE=image/jpeg:https://www.saintjeannet.org/wp-content/uploads/2017/06/LOGO-SAINT-JEANNET-JUIN-2017-ConvertImage-page-001.jpg
END:VEVENT
BEGIN:VEVENT
DTSTART;TZID=Europe/Paris:20171222T180000
DTEND;TZID=Europe/Paris:20171222T180000
DTSTAMP:20260422T103948
CREATED:20171207T085859Z
LAST-MODIFIED:20171207T085859Z
UID:6633-1513965600-1513965600@www.saintjeannet.org
SUMMARY:Gala de Noël "AISA"
DESCRIPTION:Mesdames\, Messieurs\, \nVous êtes invités à notre gala de Noël  qui se déroulera le vendredi 22 décembre 2017 au Gymnase Candau à Vence  à partir de 18h00. \nNos petites gymnastes auront le plaisir de vous présenter un petit spectacle sur le thème de la joie de Noël. C’est l’occasion également pour elles de participer à un événement solidaire. Les recettes des entrées seront en effet reversées au profit du Téléthon. \nEn espérant avoir la joie de vous compter parmi nous\, toute l’équipe de l’AISA se joint à moi pour vous souhaiter de bonnes fêtes de fin d’année. \nRecevez\, Mesdames\, Messieurs\, mes salutations distinguées. \nMurielle Staels – Présidente \ntel 06.03.13.88.99
URL:https://www.saintjeannet.org/evenement/gala-de-noel-aisa/
LOCATION:Gymnase Candau à Vence
ATTACH;FMTTYPE=image/jpeg:https://www.saintjeannet.org/wp-content/uploads/2017/12/invitation-gala-de-noel-page-001.jpg
END:VEVENT
BEGIN:VEVENT
DTSTART;TZID=Europe/Paris:20171222T203000
DTEND;TZID=Europe/Paris:20171222T203000
DTSTAMP:20260422T103948
CREATED:20171222T083144Z
LAST-MODIFIED:20171222T083204Z
UID:7096-1513974600-1513974600@www.saintjeannet.org
SUMMARY:Soirée concert actions menées par Ensemble avec Benoit
DESCRIPTION:Ensemble Avec Benoît \n\n\nNotez vite dans votre agenda ! Soirée concert le vendredi 19 prochain à La Coupole 20h30 (La Gaude) !\nAu programme : MATIÉ MATIÉ\, avec en première partie le groupe Lazy Napt.\nQue du plaisir en perspective !\nLa recette ira intégralement aux actions menées par Ensemble Avec Benoît.\nUn grand merci à la commune de La Gaude\, qui nous prête gracieusement la salle 
URL:https://www.saintjeannet.org/evenement/soiree-concert-actions-menees-ensemble-benoit/
LOCATION:LA COUPOLE DE LA GAUDE
END:VEVENT
BEGIN:VEVENT
DTSTART;TZID=Europe/Paris:20171223T133000
DTEND;TZID=Europe/Paris:20171223T173000
DTSTAMP:20260422T103948
CREATED:20171114T145003Z
LAST-MODIFIED:20171115T111342Z
UID:5889-1514035800-1514050200@www.saintjeannet.org
SUMMARY:Marché de Noël
DESCRIPTION:Marie-Rose ABATE organise un atelier de Noël dans la salle Saint Jean Baptiste de 13h30 à 17h30. \nCoordonnées : Marie-Rose ABATE –Tél.06.66.65.17.56 \nInscriptions par Mail à : marie_rose.abate@aliceadsl.fr  \nVenez nombreux !
URL:https://www.saintjeannet.org/evenement/marche-de-noel-2/
LOCATION:Salle Saint Jean-Baptiste\, rue de la Ferrage\, Saint-Jeannet\, 06640\, France Métropolitaine
ATTACH;FMTTYPE=image/jpeg:https://www.saintjeannet.org/wp-content/uploads/2017/11/images.jpg
END:VEVENT
END:VCALENDAR