BEGIN:VCALENDAR
VERSION:2.0
PRODID:-//Saint-Jeannet - ECPv6.0.8//NONSGML v1.0//EN
CALSCALE:GREGORIAN
METHOD:PUBLISH
X-WR-CALNAME:Saint-Jeannet
X-ORIGINAL-URL:https://www.saintjeannet.org
X-WR-CALDESC:évènements pour Saint-Jeannet
REFRESH-INTERVAL;VALUE=DURATION:PT1H
X-Robots-Tag:noindex
X-PUBLISHED-TTL:PT1H
BEGIN:VTIMEZONE
TZID:Europe/Paris
BEGIN:DAYLIGHT
TZOFFSETFROM:+0100
TZOFFSETTO:+0200
TZNAME:CEST
DTSTART:20180325T010000
END:DAYLIGHT
BEGIN:STANDARD
TZOFFSETFROM:+0200
TZOFFSETTO:+0100
TZNAME:CET
DTSTART:20181028T010000
END:STANDARD
END:VTIMEZONE
BEGIN:VEVENT
DTSTART;TZID=Europe/Paris:20180702T140000
DTEND;TZID=Europe/Paris:20180708T180000
DTSTAMP:20260421T143751
CREATED:20180625T072255Z
LAST-MODIFIED:20180625T072423Z
UID:10030-1530540000-1531072800@www.saintjeannet.org
SUMMARY:Exposition de sculptures en céramique du 02 au 08 juillet à VENCE
DESCRIPTION:Bonjour\, \nJ’expose mes sculptures en céramique pendant une semaine à Vence à coté du Crédit Mutuel – 14 Avenue de la Résistance \nDu 2 au 8 juillet 2018 (horaires : lundi au dimanche de 10h à 12h30 et de 14h à 18h30). \nNous vous accueillons avec Brigitte pour découvrir aussi les toiles de Mireille Berrard (artiste peintre de l’Artothèque) http://www.vence.fr/artotheque-de-vence \nVernissage : Samedi 7 juillet 2018 à 11 h \nAu plaisir de vous y rencontrer … \nLine Briols Tél.06 04 43 83 15
URL:https://www.saintjeannet.org/evenement/exposition-de-sculptures-en-ceramique-du-02-au-08-juillet-a-vence/
LOCATION:14 avenue de la résistance à Vence
ATTACH;FMTTYPE=image/jpeg:https://www.saintjeannet.org/wp-content/uploads/2018/06/Affiche-Expo-CM-M-Berrard-L-Briols-Juillet-2018-page-001-e1529914749190.jpg
END:VEVENT
END:VCALENDAR