BEGIN:VCALENDAR
VERSION:2.0
PRODID:-//Saint-Jeannet - ECPv6.0.8//NONSGML v1.0//EN
CALSCALE:GREGORIAN
METHOD:PUBLISH
X-ORIGINAL-URL:https://www.saintjeannet.org
X-WR-CALDESC:évènements pour Saint-Jeannet
REFRESH-INTERVAL;VALUE=DURATION:PT1H
X-Robots-Tag:noindex
X-PUBLISHED-TTL:PT1H
BEGIN:VTIMEZONE
TZID:Europe/Paris
BEGIN:DAYLIGHT
TZOFFSETFROM:+0100
TZOFFSETTO:+0200
TZNAME:CEST
DTSTART:20180325T010000
END:DAYLIGHT
BEGIN:STANDARD
TZOFFSETFROM:+0200
TZOFFSETTO:+0100
TZNAME:CET
DTSTART:20181028T010000
END:STANDARD
END:VTIMEZONE
BEGIN:VEVENT
DTSTART;TZID=Europe/Paris:20180509T080000
DTEND;TZID=Europe/Paris:20180624T170000
DTSTAMP:20260422T041034
CREATED:20180511T063458Z
LAST-MODIFIED:20180511T063458Z
UID:9624-1525852800-1529859600@www.saintjeannet.org
SUMMARY:AS Saint-Jeannoise GPJ Baous tournoi jeunes "du 09 au 24 juin 2018"
DESCRIPTION:AS ST JEANNOISE GPJ BAOUS TOURNOI JEUNES \nDu 9 au 24 juin 2018 \nÉpreuves : \n\nFilles : 11\, 12\, 13\, 14\,15/16\, 17/18 ans\,\nGarçons : idem que les filles\n\nInscriptions : Anthony Borgia \n\nhttps://mon-espace-tennis.fft.fr\nTéléphone : 06 77 74 72 05
URL:https://www.saintjeannet.org/evenement/as-saint-jeannoise-gpj-baous-tournoi-jeunes-du-09-au-24-juin-2018/
LOCATION:tennis saint jeannet
ATTACH;FMTTYPE=image/jpeg:https://www.saintjeannet.org/wp-content/uploads/2018/05/tournoi_jeunes_2018-page-001-e1526023819208.jpg
END:VEVENT
BEGIN:VEVENT
DTSTART;TZID=Europe/Paris:20180515T080000
DTEND;TZID=Europe/Paris:20180529T170000
DTSTAMP:20260422T041034
CREATED:20180427T072403Z
LAST-MODIFIED:20180427T072403Z
UID:9451-1526371200-1527613200@www.saintjeannet.org
SUMMARY:Rencontres des Arts présente une exposition  de dessins\, peintures et techniques mixtes à Vence
DESCRIPTION:Rencontres des Arts présente une exposition de dessins\, peintures et techniques mixtes du : \n\nmardi 15 au mardi 29 mai – KIKIB et Gibert
URL:https://www.saintjeannet.org/evenement/rencontres-des-arts-presente-une-exposition-de-dessins-peintures-et-techniques-mixtes-a-vence/
LOCATION:Vence
ATTACH;FMTTYPE=image/jpeg:https://www.saintjeannet.org/wp-content/uploads/2018/04/Affiche-Regence-2018-A4-e1524817172312.jpg
END:VEVENT
BEGIN:VEVENT
DTSTART;VALUE=DATE:20180525
DTEND;VALUE=DATE:20180526
DTSTAMP:20260422T041034
CREATED:20180207T101427Z
LAST-MODIFIED:20180207T101805Z
UID:7990-1527206400-1527292799@www.saintjeannet.org
SUMMARY:La 18ème édition de la fête des voisins le vendredi 25 mai
DESCRIPTION:Pour sa 18ème édition\, « La Fête des Voisins »\, a réuni le vendredi 19 mai dernier 9 millions de participants en France. Soutenu par l’Association des Maires de France\, ainsi que l’Union Sociale pour l’Habitat\, ce rendez-vous\, qui est le premier événement citoyen en France et en Europe\, se déroulera cette année le : \nVendredi 25 mai 2018\nDe très nombreux habitants de votre commune participent déjà à la Fête des Voisins. En devenant partenaire officiel\, vous contribuez à amplifier cette dynamique pour renforcer le lien social et lutter contre l’indifférence et l’isolement. \nPour accroître la mobilisation\, l’implication de la mairie est indispensable car nous ne pouvons pas répondre à toutes les demandes individuelles. \nCet événement est un catalyseur générateur de milliers de situations d’entraide\, permettant à la fois l’expression politique (sur les valeurs humaines et sociales que vous souhaitez développer)\, l’implication des citoyens sur un thème positif ainsi que l’identification de bonnes volontés. La mairie développe une communication de mobilisation\, relaie la manifestation et distribue le matériel que nous vous fournissons\, les habitants étant les acteurs de la Fête. \nVous trouverez la plaquette de présentation la Fête des Voisins en cliquant sur ce lien : \nLa Fête des Voisins \nEn vous inscrivant dans le dispositif\, vous bénéficierez d’une assistance logistique\, d’une campagne de presse nationale\, du matériel labellisé « Fête des Voisins » : T-shirts\, ballons\, gobelets\, nappes (en fonction du nombre d’habitants)\, ainsi que des outils imprimés : affiches\, tracts\, invitations\, badges autocollants (en quantité illimitée). \nVous intégrez aussi un réseau de plus de 1250 mairies et bailleurs sociaux de toute la France\, au sein duquel vous bénéficiez d’échanges d’expériences et de bonnes pratiques. \nEnfin\, vous pouvez être éligible au label européen « Ville conviviale – Ville solidaire ». \nPour vous inscrire\, il vous suffit de nous retourner le bon d’inscription officiel. \nPour découvrir en image le déroulement de votre inscription\, cliquez sur ce lien : Vidéo de la Fête des Voisins
URL:https://www.saintjeannet.org/evenement/18eme-edition-de-fete-voisins-vendredi-25-mai/
END:VEVENT
END:VCALENDAR