BEGIN:VCALENDAR
VERSION:2.0
PRODID:-//Saint-Jeannet - ECPv6.0.8//NONSGML v1.0//EN
CALSCALE:GREGORIAN
METHOD:PUBLISH
X-WR-CALNAME:Saint-Jeannet
X-ORIGINAL-URL:https://www.saintjeannet.org
X-WR-CALDESC:évènements pour Saint-Jeannet
REFRESH-INTERVAL;VALUE=DURATION:PT1H
X-Robots-Tag:noindex
X-PUBLISHED-TTL:PT1H
BEGIN:VTIMEZONE
TZID:Europe/Paris
BEGIN:DAYLIGHT
TZOFFSETFROM:+0100
TZOFFSETTO:+0200
TZNAME:CEST
DTSTART:20180325T010000
END:DAYLIGHT
BEGIN:STANDARD
TZOFFSETFROM:+0200
TZOFFSETTO:+0100
TZNAME:CET
DTSTART:20181028T010000
END:STANDARD
END:VTIMEZONE
BEGIN:VEVENT
DTSTART;TZID=Europe/Paris:20180422T090000
DTEND;TZID=Europe/Paris:20180428T180000
DTSTAMP:20260422T055220
CREATED:20180207T095753Z
LAST-MODIFIED:20180409T072049Z
UID:7985-1524387600-1524938400@www.saintjeannet.org
SUMMARY:Exposition photos des sentiers et villages des Baous
DESCRIPTION:Exposition photos \nExposition photographies de l’association « Sentiers et Villages des Baous »\ndu dimanche 22 au samedi 28 Avril 2018\, Chapelle Saint-Jean-Baptiste\nVernissage le dimanche 22 Avril 2018 à 11h \nNous restons sur les dates et programme suivants : \n\nInstallation le Samedi 21.04 à partir de 17h\, \nOuverture de l’expo Dimanche 22.04 à 9h30 (non-stop).\nVernissage le dimanche à partir de 11h. \nOuverture en semaine le lundi toute la journée de 10h à 12h30 et de 15h à 18h du mardi au jeudi ouverture de 15h à 18 h. Vendredi  de 10h à 12h30 et de 15h à 18h\nSamedi 28.04 ouverture de 9h30 à 18h et fin de l’expo.\n\nLe site internet de l’association \nhttp://sentiers.village.free.fr/Rendez-vous.htm
URL:https://www.saintjeannet.org/evenement/exposition-photos-sentiers-villages-baous/
LOCATION:chapelle saint jean baptiste\, rue de La Ferrage\, SAINT-JEANNET\, 06640
END:VEVENT
END:VCALENDAR