BEGIN:VCALENDAR
VERSION:2.0
PRODID:-//Saint-Jeannet - ECPv6.0.8//NONSGML v1.0//EN
CALSCALE:GREGORIAN
METHOD:PUBLISH
X-ORIGINAL-URL:https://www.saintjeannet.org
X-WR-CALDESC:évènements pour Saint-Jeannet
REFRESH-INTERVAL;VALUE=DURATION:PT1H
X-Robots-Tag:noindex
X-PUBLISHED-TTL:PT1H
BEGIN:VTIMEZONE
TZID:Europe/Paris
BEGIN:DAYLIGHT
TZOFFSETFROM:+0100
TZOFFSETTO:+0200
TZNAME:CEST
DTSTART:20180325T010000
END:DAYLIGHT
BEGIN:STANDARD
TZOFFSETFROM:+0200
TZOFFSETTO:+0100
TZNAME:CET
DTSTART:20181028T010000
END:STANDARD
END:VTIMEZONE
BEGIN:VEVENT
DTSTART;TZID=Europe/Paris:20180417T173000
DTEND;TZID=Europe/Paris:20180417T190000
DTSTAMP:20260422T055732
CREATED:20180416T102403Z
LAST-MODIFIED:20180416T102403Z
UID:9245-1523986200-1523991600@www.saintjeannet.org
SUMMARY:Conférence à la Gaude sur La Biodiversité en Plaine du Var
DESCRIPTION:Conférence à la Gaude sur La Biodiversité en Plaine du Var le mardi 17 avril 2018 à 17h30. \nIntervenant : Joss DEFFARGES \nSalle de cinéma et des spectacles « André Féraud » La Coupole à LA GAUDE \nEntrée libre
URL:https://www.saintjeannet.org/evenement/conference-a-la-gaude-sur-la-biodiversite-en-plaine-du-var/
LOCATION:LA COUPOLE DE LA GAUDE
ATTACH;FMTTYPE=image/jpeg:https://www.saintjeannet.org/wp-content/uploads/2018/04/ConfBiodiversite_17avril.LaGaude-page-001-e1523877416946.jpg
END:VEVENT
END:VCALENDAR