BEGIN:VCALENDAR
VERSION:2.0
PRODID:-//Saint-Jeannet - ECPv6.0.8//NONSGML v1.0//EN
CALSCALE:GREGORIAN
METHOD:PUBLISH
X-WR-CALNAME:Saint-Jeannet
X-ORIGINAL-URL:https://www.saintjeannet.org
X-WR-CALDESC:évènements pour Saint-Jeannet
REFRESH-INTERVAL;VALUE=DURATION:PT1H
X-Robots-Tag:noindex
X-PUBLISHED-TTL:PT1H
BEGIN:VTIMEZONE
TZID:Europe/Paris
BEGIN:DAYLIGHT
TZOFFSETFROM:+0100
TZOFFSETTO:+0200
TZNAME:CEST
DTSTART:20180325T010000
END:DAYLIGHT
BEGIN:STANDARD
TZOFFSETFROM:+0200
TZOFFSETTO:+0100
TZNAME:CET
DTSTART:20181028T010000
END:STANDARD
END:VTIMEZONE
BEGIN:VEVENT
DTSTART;TZID=Europe/Paris:20180406T100000
DTEND;TZID=Europe/Paris:20180415T180000
DTSTAMP:20260422T055219
CREATED:20180330T063516Z
LAST-MODIFIED:20180330T063730Z
UID:8883-1523008800-1523815200@www.saintjeannet.org
SUMMARY:EXPOSITION : "Trois regards" du 06 au 15 avril 2018
DESCRIPTION:EXPOSITION : « Trois regards« \nDu 6 au 15 avril 2018 « salle Saint Jean Baptiste » Vernissage le vendredi 06 avril à 19h \nNous vous invitons à venir partager ce moment de rencontres et d’échanges avec grand plaisir. \n\nLaurence Prat : https://www.facebook.com/Prat-Art-Créations-401012500066738/\nStéphanie Hamel-Grain : http://actionart.fr\nMarCo SarTori : https://www.facebook.com/marco.sartori.9883
URL:https://www.saintjeannet.org/evenement/exposition-trois-regards-du-06-au-15-avril-2018/
LOCATION:Salle Saint Jean-Baptiste\, rue de la Ferrage\, Saint-Jeannet\, 06640\, France Métropolitaine
ATTACH;FMTTYPE=image/png:https://www.saintjeannet.org/wp-content/uploads/2018/03/0FinAffiche3r07cmjn100-e1522395150379.png
END:VEVENT
BEGIN:VEVENT
DTSTART;TZID=Europe/Paris:20180414T090000
DTEND;TZID=Europe/Paris:20180414T120000
DTSTAMP:20260422T055219
CREATED:20180410T064605Z
LAST-MODIFIED:20180410T064605Z
UID:8980-1523696400-1523707200@www.saintjeannet.org
SUMMARY:Jardin du mois samedi 14 avril «démarrer son potager au naturel avec les ruchers»
DESCRIPTION:JARDIN DU MOIS SAMEDI 14 AVRIL – Atelier jardin «démarrer son potager au naturel»\n\n\n\n\n\n\n\n\nFace à l’intempéries mois de février nous ne pouvions faire que reporter à plusieurs reprise de nos ateliers  » démarrer son potager au naturel  » pour permettre une chance de travailler dans de bonnes conditions. \nLes beaux jours s’installent et il est encore temps de préparer son potager pour pouvoir avoir de belles récoltes cet été! \nDes places pour cet atelier qui ont lieu   le Samedi 14 Avril sont disponibles aujourd’hui alors alors réservez vite ! \nVous-même\, votre propre potager dans le but de produire une même nourriture pour une certaine autonomie? Cet atelier est réservé aux débutants qui ont accès à une petite parcelle de terre et qui se prépare à leur tout premier potager en utilisant les méthodes de jardinage naturel inspiré de l’agro-écologie et de la permaculture\, les jardiniers plus aguerris! \nCe tout nouvel atelier aborde de manière très concrète la mise en œuvre étape par étapes des premiers travaux à effectuer pour la mise en place d’un jardin potager naturel et écologique. \nPROGRAMME AU : \nLes grands principes du jardinage naturel \n\nIntroduction et origine de l’agriculture naturelle\nJardinage conventionnel vs Jardinage naturel\nLa vie du sol pilier majeur du jardinage naturel. Commenter le sol nourrit la plante?\nles matières organiques: qu’est ce que c’est? Quel est leur intérêt au jardin? Comment les choisir?\n\nQue faut-il pour démarrer son potager? \n\nLe matériel et son coût\nles cultures à privilégier pour démarrer.\n\nPréparation des parcelles. \n\n\nLes 3 dimensions de la fertilité des sols. \n\n\nMa terre est-elle fertile? \n\nExposition\nPréparation du terrain\nLa fertilisation\n\nGraines et plantes \n\nOrganisation des plantes\nPériodes de semis\n\nAmendement et irrigation \n\nArrosage et paillis\nLe compost\nEngrais verts et leur utilisation \n\nINFOS PRATIQUES : \n\nAccueil au jardin 9h00 (boissons chaudes offertes)\nDébut de l’atelier 9h30 (durée de l’atelier 3h00 environ) \nRéservation par mail : cultures@lesruchersdesbaous.org ou sur notre espace  réservation\nTéléphone : 06 58 15 11 43\nParticipation 15 € reversé à l’association.
URL:https://www.saintjeannet.org/evenement/jardin-du-mois-samedi-14-avril-demarrer-son-potager-au-naturel-avec-les-ruchers/
LOCATION:Jardin Lazare\, CD 18 - Parking René Veyssi\, Saint Jeannet\, 06640\, France
ATTACH;FMTTYPE=image/jpeg:https://www.saintjeannet.org/wp-content/uploads/2018/04/téléchargement.jpg
END:VEVENT
BEGIN:VEVENT
DTSTART;TZID=Europe/Paris:20180414T150000
DTEND;TZID=Europe/Paris:20180414T170000
DTSTAMP:20260422T055219
CREATED:20180406T182648Z
LAST-MODIFIED:20180406T182648Z
UID:8928-1523718000-1523725200@www.saintjeannet.org
SUMMARY:Samedi 14 avril 2018 // Ciné-concert Mus&toile – Entrée libre à 15 h salle Saint Jean Baptiste
DESCRIPTION:Samedi 14 avril 2018 // Ciné-concert Mus&toile – Entrée libre\nEn clôture des Rendez-vous de Saint-Jeannet 2018\, nous avons le plaisir de proposer une séance de ciné-concert pour jeune public\, avec les artistes de Musétoile\, samedi 14 avril à 15h\, salle Saint Jean-Baptiste. \n4 courts métrages d’animations\, à la fois drôles\, touchants et contemplatifs\, seront projetés et accompagnés de musique en live : l’histoire d’un éléphant qui veut à tout prix s’acheter un vélo\, d’un petit garçon africain recevant une lettre accompagnée d’un flocon de neige\, d’une étrange créature découverte par un enfant\, qui décide de lui trouver une maison\, et enfin d’un arbre partant en promenade et invitant tous ceux qu’il rencontre à le suivre dans sa joyeuse farandole. \nDurant la projection\, les 4 musiciens multi instrumentistes interpréteront leurs compositions originales\, écrites spécialement pour chaque dessin animé. \nAvec Alice Dormoy (piano\, clarinette\, voix)\, Mathieu Schild (contrebasse\, guitare\, percussions)\, Gaétane Herpe (alto\, violon)\, et Emmanuel Licari (violon et percussions). \nA l’issue de la représentation\, un goûter sera offert par le Service Tourisme et Culture. \nCourts métrages diffusés : \n « Le vélo de l’éléphant » Olesya Shchukina – 9 min (Russie)\, « Flocon de neige » Natalia Chernysheva – 6 min (Russie)\, « La chose perdue » Andrew Ruhemann – 15 min (Australie) et « One two tree » Yulia Aronova – 6 min 50 (Russie)
URL:https://www.saintjeannet.org/evenement/samedi-14-avril-2018-cine-concert-mustoile-entree-libre-a-15-h-salle-saint-jean-baptiste/
LOCATION:chapelle saint jean baptiste\, rue de La Ferrage\, SAINT-JEANNET\, 06640
ATTACH;FMTTYPE=image/jpeg:https://www.saintjeannet.org/wp-content/uploads/2018/04/A4-Ciné-concert-Musétoile-e1523042480108.jpg
END:VEVENT
END:VCALENDAR