BEGIN:VCALENDAR
VERSION:2.0
PRODID:-//Saint-Jeannet - ECPv6.0.8//NONSGML v1.0//EN
CALSCALE:GREGORIAN
METHOD:PUBLISH
X-ORIGINAL-URL:https://www.saintjeannet.org
X-WR-CALDESC:évènements pour Saint-Jeannet
REFRESH-INTERVAL;VALUE=DURATION:PT1H
X-Robots-Tag:noindex
X-PUBLISHED-TTL:PT1H
BEGIN:VTIMEZONE
TZID:Europe/Paris
BEGIN:DAYLIGHT
TZOFFSETFROM:+0100
TZOFFSETTO:+0200
TZNAME:CEST
DTSTART:20180325T010000
END:DAYLIGHT
BEGIN:STANDARD
TZOFFSETFROM:+0200
TZOFFSETTO:+0100
TZNAME:CET
DTSTART:20181028T010000
END:STANDARD
END:VTIMEZONE
BEGIN:VEVENT
DTSTART;TZID=Europe/Paris:20180406T100000
DTEND;TZID=Europe/Paris:20180415T180000
DTSTAMP:20260422T055855
CREATED:20180330T063516Z
LAST-MODIFIED:20180330T063730Z
UID:8883-1523008800-1523815200@www.saintjeannet.org
SUMMARY:EXPOSITION : "Trois regards" du 06 au 15 avril 2018
DESCRIPTION:EXPOSITION : « Trois regards« \nDu 6 au 15 avril 2018 « salle Saint Jean Baptiste » Vernissage le vendredi 06 avril à 19h \nNous vous invitons à venir partager ce moment de rencontres et d’échanges avec grand plaisir. \n\nLaurence Prat : https://www.facebook.com/Prat-Art-Créations-401012500066738/\nStéphanie Hamel-Grain : http://actionart.fr\nMarCo SarTori : https://www.facebook.com/marco.sartori.9883
URL:https://www.saintjeannet.org/evenement/exposition-trois-regards-du-06-au-15-avril-2018/
LOCATION:Salle Saint Jean-Baptiste\, rue de la Ferrage\, Saint-Jeannet\, 06640\, France Métropolitaine
ATTACH;FMTTYPE=image/png:https://www.saintjeannet.org/wp-content/uploads/2018/03/0FinAffiche3r07cmjn100-e1522395150379.png
END:VEVENT
BEGIN:VEVENT
DTSTART;TZID=Europe/Paris:20180410T180000
DTEND;TZID=Europe/Paris:20180410T200000
DTSTAMP:20260422T055855
CREATED:20180327T082254Z
LAST-MODIFIED:20180330T064942Z
UID:8871-1523383200-1523390400@www.saintjeannet.org
SUMMARY:Voyage en Namibie – mardi 10 Avril 2018 – salle de La Coupole La Gaude (film et conférence)
DESCRIPTION:‘Voyage en Namibie’ \nCette conférence sera présentée par Michel Demange. \nMichel commencera par une introduction sur la Namibie\, suivie d’un film d’environ 1h\, réalisé lors d’un récent voyage dans ce pays et dans la Zambie voisine. \n La Namibie un pays de surprises\, des paysages désertiques à perte de vue\, vide de population ou presque\, \n un immense lac desséché victime de mouvements tectoniques\, des troncs d’arbres noirs brûlés par le soleil\, entourés de dunes au sable rouge\, \n des frontières insolites faisant fi des populations natives\, une ville côtière entourée de dunes\, à l’architecture germanique du début du XXe siècle\, \n les chutes Victoria en Zambie qui\, à une échelle de temps géologique\, remontent le Zambèze… \nMalgré cela des hommes ont de tout temps habité ces contrés hostiles\, en témoignent ces peintures rupestres\, \n sans parler de la multitude d’espèces animales qui se sont adaptées au désert recyclant l’humidité de leur respiration\, \n buvant la rosée du matin\, survivant ainsi durant des périodes de sécheresse prolongées… \nSans parler de la plus importante colonie d’otaries de la planète\, de la bande de Caprivi en contraste avec le reste de la Namibie\, \n région verdoyante avec un superbe éventail de vie sauvage\, hippopotames\, les plus grands troupeaux d’éléphants d’Afrique… \nLa Namibie Présentation \nVous trouverez quelques photos illustrant la Namibie dans le document attaché. \nCette conférence se tiendra le Mardi 10 Avril 2018\, 18:00-20:00\, salle de La Coupole à La Gaude. \n* Un apéritif amical clôturera la conférence \nOrganisateur CARA Sud Est
URL:https://www.saintjeannet.org/evenement/voyage-en-namibie-mardi-10-avril-2018-salle-de-la-coupole-la-gaude-film-et-conference/
LOCATION:LA COUPOLE DE LA GAUDE
END:VEVENT
END:VCALENDAR