BEGIN:VCALENDAR
VERSION:2.0
PRODID:-//Saint-Jeannet - ECPv6.0.8//NONSGML v1.0//EN
CALSCALE:GREGORIAN
METHOD:PUBLISH
X-ORIGINAL-URL:https://www.saintjeannet.org
X-WR-CALDESC:évènements pour Saint-Jeannet
REFRESH-INTERVAL;VALUE=DURATION:PT1H
X-Robots-Tag:noindex
X-PUBLISHED-TTL:PT1H
BEGIN:VTIMEZONE
TZID:Europe/Paris
BEGIN:DAYLIGHT
TZOFFSETFROM:+0100
TZOFFSETTO:+0200
TZNAME:CEST
DTSTART:20180325T010000
END:DAYLIGHT
BEGIN:STANDARD
TZOFFSETFROM:+0200
TZOFFSETTO:+0100
TZNAME:CET
DTSTART:20181028T010000
END:STANDARD
END:VTIMEZONE
BEGIN:VEVENT
DTSTART;TZID=Europe/Paris:20180331T180000
DTEND;TZID=Europe/Paris:20180331T180000
DTSTAMP:20260422T055751
CREATED:20180302T081956Z
LAST-MODIFIED:20180302T081956Z
UID:8471-1522519200-1522519200@www.saintjeannet.org
SUMMARY:Soirée apéro lune le samedi 31 mars avec Nature Essentielle
DESCRIPTION:Descriptif: \nSamedi 31 mars : Réserver dès maintenant votre soirée!\n Venez nous retrouver dans une ambiance conviviale pour une montée au Baou au clair de Lune. \nLe principe est simple : \nChacun prépare un petit quelque chose que nous partagerons une fois arrivés au sommet! \nCette sortie est une sortie familiale et le rythme sera facile. N’oubliez pas de nous contacter rapidement afin de réserver vos places. \nPrévoir lampes frontales! (Nous en avons pour dépanner mais le stock est limité) \nCette sortie est gratuite! Par contre\, n’hésitez pas à liker notre page Facebook pour être au courant de toute notre actualité. \nLien événement: \nhttp://www.nature-essentielle.fr/event/apero-lune/
URL:https://www.saintjeannet.org/evenement/soiree-apero-lune-samedi-31-mars-nature-essentielle/
LOCATION:PARKING VEYSSI
END:VEVENT
END:VCALENDAR