BEGIN:VCALENDAR
VERSION:2.0
PRODID:-//Saint-Jeannet - ECPv6.0.8//NONSGML v1.0//EN
CALSCALE:GREGORIAN
METHOD:PUBLISH
X-ORIGINAL-URL:https://www.saintjeannet.org
X-WR-CALDESC:évènements pour Saint-Jeannet
REFRESH-INTERVAL;VALUE=DURATION:PT1H
X-Robots-Tag:noindex
X-PUBLISHED-TTL:PT1H
BEGIN:VTIMEZONE
TZID:Europe/Paris
BEGIN:DAYLIGHT
TZOFFSETFROM:+0100
TZOFFSETTO:+0200
TZNAME:CEST
DTSTART:20180325T010000
END:DAYLIGHT
BEGIN:STANDARD
TZOFFSETFROM:+0200
TZOFFSETTO:+0100
TZNAME:CET
DTSTART:20181028T010000
END:STANDARD
END:VTIMEZONE
BEGIN:VEVENT
DTSTART;TZID=Europe/Paris:20180324T090000
DTEND;TZID=Europe/Paris:20180324T120000
DTSTAMP:20260422T074124
CREATED:20180307T084757Z
LAST-MODIFIED:20180307T091514Z
UID:8503-1521882000-1521892800@www.saintjeannet.org
SUMMARY:Atelier cuisine au jardin participatif "Ganses Saint Jeannoise"
DESCRIPTION:SAMEDI 24 MARS – Atelier cuisine «Ganses Saint Jeannoise »\nLe coin cuisine vous propose un atelier ganses samedi 24 Mars au jardin participatif sous l’œil averti de Rose notre spécialiste cuisine ! \nCe dessert traditionnel est à la table de toutes les fêtes familiales religieuses et patronale de notre village. \nVenez apprendre à confectionner cette recette traditionnelle et locales typiques de la région dans la convivialité du coin cuisine\, et repartez avec votre barquette de ganse ! \nRecette utilisant des produits naturels de Saint Jeannet : eau de fleur d’oranger de Saint-Jeannet Production locale Mr Denis Ducas. \nINFOS PRATIQUES : \n\nAccueil au jardin 9h00 (boissons chaudes offertes)\nDébut de l’atelier 9h30 (durée de l’atelier 3h00 environ)\n\nRÉSERVATION : \nMerci de réserver vos places via notre espace en ligne. (Réservation limité à 12 participants) ou au 06 15 40 93 24. \nParticipation 15€ reversé à l’association.
URL:https://www.saintjeannet.org/evenement/atelier-cuisine-jardin-participatif-ganses-saint-jeannoise/
LOCATION:Jardin Lazare\, CD 18 - Parking René Veyssi\, Saint Jeannet\, 06640\, France
END:VEVENT
END:VCALENDAR