BEGIN:VCALENDAR
VERSION:2.0
PRODID:-//Saint-Jeannet - ECPv6.0.8//NONSGML v1.0//EN
CALSCALE:GREGORIAN
METHOD:PUBLISH
X-ORIGINAL-URL:https://www.saintjeannet.org
X-WR-CALDESC:évènements pour Saint-Jeannet
REFRESH-INTERVAL;VALUE=DURATION:PT1H
X-Robots-Tag:noindex
X-PUBLISHED-TTL:PT1H
BEGIN:VTIMEZONE
TZID:Europe/Paris
BEGIN:DAYLIGHT
TZOFFSETFROM:+0100
TZOFFSETTO:+0200
TZNAME:CEST
DTSTART:20180325T010000
END:DAYLIGHT
BEGIN:STANDARD
TZOFFSETFROM:+0200
TZOFFSETTO:+0100
TZNAME:CET
DTSTART:20181028T010000
END:STANDARD
END:VTIMEZONE
BEGIN:VEVENT
DTSTART;TZID=Europe/Paris:20180314T100000
DTEND;TZID=Europe/Paris:20180318T180000
DTSTAMP:20260422T074124
CREATED:20180222T100504Z
LAST-MODIFIED:20180222T100504Z
UID:8231-1521021600-1521396000@www.saintjeannet.org
SUMMARY:Les rendez-vous Culturels de Saint jeannet "Exposition photographies et poèmes" du 14 au 18 mars 2018
DESCRIPTION:Les Rendez-vous de Saint-Jeannet \nDu 14 au 18 mars 2018  \n« INSTANT »  \nExposition photographies et poèmes \nLa nouvelle saison culturelle des « Rendez-vous de Saint-Jeannet » se poursuit jusqu’au mois d’avril\, et proposera chaque année l’exposition d’un artiste\, en parallèle de la programmation de spectacles. \nPour 2018\, dans le cadre du Printemps des poètes\, nous avons souhaité présenter le travail de Dominique Duyck du 14 au 18 mars\, salle Saint Jean-Baptiste. \n« Regarder la vie autour de soi\, le quotidien\, l’explorer est déjà un voyage des sens. Il n’y a rien de nouveau\, il y a juste ce que l’on perçoit\, ce que l’on ressent. \nCette exposition est l’interaction d’images et de mots perçue à un « INSTANT » où mon regard et mes émotions se sont imbriqués. » \n \nDu 14 au 18 mars 2018 \n« INSTANT » exposition photographies et poèmes – Dominique Duyck \nSalle Saint Jean-Baptiste – Entrée libre –  10h à  12h et 15h à 18h \nInformations : Service Tourisme et culture Saint-Jeannet – 04 93 24 73 83
URL:https://www.saintjeannet.org/evenement/rendez-culturels-de-saint-jeannet-exposition-photographies-poemes-14-18-mars-2018/
LOCATION:chapelle saint jean baptiste\, rue de La Ferrage\, SAINT-JEANNET\, 06640
ATTACH;FMTTYPE=image/jpeg:https://www.saintjeannet.org/wp-content/uploads/2018/02/Image-instant-Dominique-Duyck.jpg
END:VEVENT
BEGIN:VEVENT
DTSTART;TZID=Europe/Paris:20180316T203000
DTEND;TZID=Europe/Paris:20180316T203000
DTSTAMP:20260422T074124
CREATED:20180313T095800Z
LAST-MODIFIED:20180313T095748Z
UID:8214-1521232200-1521232200@www.saintjeannet.org
SUMMARY:Rendez-vous de Saint-Jeannet "Regarder devant" création poétique et musicale le vendredi 16 mars 2018
DESCRIPTION:Rendez-vous de Saint-Jeannet \nVendredi 16 mars 2018 \n« Regarder devant » création poétique et musicale \nAvec Gwenaëlle Laure et Philippe Molino \nLa nouvelle saison culturelle des « Rendez-vous de Saint-Jeannet » se poursuit avec une lecture interprétée de poésies accompagnée de musique\, vendredi 16 mars\, dans le cadre du Printemps des poètes. Une exposition de photos et de poèmes de Dominique Duyck se tiendra également salle Saint Jean-Baptiste\, du 14 au 18 mars. \nGrande lectrice de littérature\, de poésie et passionnée de théâtre\, Gwenaëlle Laure a forgé son goût des mots depuis son plus jeune âge… Le roman de sa vie\, avec ses  bonheurs et ses épreuves\, lui a inspiré ces récits poétiques. \nREGARDER DEVANT est une sélection de ses écrits les plus récents. \nLes mots et l’univers intime de Gwénaëlle Laure sont colorés par la musique de Philippe Molino\, musicien\, poète\, plasticien et art-thérapeute. Il l’accompagne au piano\, au Space Drum et aux percussions. \nLeur rencontre est récente ; leurs sensibilités artistiques se sont accordées pour mettre en résonance mots\, sons et silences. \nCette heureuse correspondance crée une mosaïque étonnante de Musique et de Poésie. \nVendredi 16 mars 2018 à 20h30 – Salle Saint Jean-Baptiste – 5€ (entrée libre -12 ans)  \nInfos / réservations : Service Tourisme et culture Saint-Jeannet – 04 93 24 73 83
URL:https://www.saintjeannet.org/evenement/rendez-de-saint-jeannet-regarder-devant-creation-poetique-musicale-vendredi-16-mars-2018/
LOCATION:chapelle saint jean baptiste\, rue de La Ferrage\, SAINT-JEANNET\, 06640
ATTACH;FMTTYPE=image/jpeg:https://www.saintjeannet.org/wp-content/uploads/2018/02/A4-Regarder-devant-16-mars.jpg
END:VEVENT
BEGIN:VEVENT
DTSTART;TZID=Europe/Paris:20180316T203000
DTEND;TZID=Europe/Paris:20180316T233000
DTSTAMP:20260422T074124
CREATED:20180115T124938Z
LAST-MODIFIED:20180115T125005Z
UID:7503-1521232200-1521243000@www.saintjeannet.org
SUMMARY:Les printemps des poètes
DESCRIPTION:Les Rendez-vous de Saint-Jeannet \nJanvier à avril 2018 \nSaint-Jeannet lance de nouveaux Rendez-vous culturels à partir de cette année. \nChaque mois\, de janvier à avril\, une soirée sera proposée salle Saint Jean-Baptiste\, toujours avec la volonté de croiser les disciplines artistiques et de soutenir les projets locaux. Ces « Rendez-vous » seront aussi des occasions créées pour se rencontrer\, discuter\, découvrir\, ou simplement être embarqué dans de jolies histoires… \nLe vendredi 16 mars à 20h30\, dans le cadre du Printemps des Poètes\, nous avons le plaisir d’accueillir 2 artistes azuréens\, Gwenaëlle Laure et Philippe Molino pour la création « Regarder devant »\, une lecture interprétée de poésies\, accompagnée de musique. \nPUne saison qui inclut également 2 stages d’initiation artistique dans le cadre de la soirée Ukulélé\, autour de la danse et de la musique\, et enfin une exposition de photographies et poèmes de Dominique Duyck dans le cadre du Printemps des Poètes. \nLe dépliant \nDépliant Saison Janv Avril 2018 \nTout le programme est à retrouver sur le site de la commune www.saintjeannet.org \nInformations – Service Tourisme et Culture – 04 93 24 73 83
URL:https://www.saintjeannet.org/evenement/les-printemps-des-poetes/
LOCATION:chapelle saint jean baptiste\, rue de La Ferrage\, SAINT-JEANNET\, 06640
END:VEVENT
END:VCALENDAR