BEGIN:VCALENDAR
VERSION:2.0
PRODID:-//Saint-Jeannet - ECPv6.0.8//NONSGML v1.0//EN
CALSCALE:GREGORIAN
METHOD:PUBLISH
X-ORIGINAL-URL:https://www.saintjeannet.org
X-WR-CALDESC:évènements pour Saint-Jeannet
REFRESH-INTERVAL;VALUE=DURATION:PT1H
X-Robots-Tag:noindex
X-PUBLISHED-TTL:PT1H
BEGIN:VTIMEZONE
TZID:Europe/Paris
BEGIN:DAYLIGHT
TZOFFSETFROM:+0100
TZOFFSETTO:+0200
TZNAME:CEST
DTSTART:20180325T010000
END:DAYLIGHT
BEGIN:STANDARD
TZOFFSETFROM:+0200
TZOFFSETTO:+0100
TZNAME:CET
DTSTART:20181028T010000
END:STANDARD
END:VTIMEZONE
BEGIN:VEVENT
DTSTART;TZID=Europe/Paris:20180310T080000
DTEND;TZID=Europe/Paris:20180310T120000
DTSTAMP:20260422T074125
CREATED:20180301T150014Z
LAST-MODIFIED:20180301T150014Z
UID:8441-1520668800-1520683200@www.saintjeannet.org
SUMMARY:Atelier "Réussir ses semis" et " Taille de la vigne" avec les Ruchers des Baous
DESCRIPTION:SAMEDI 10 MARS – Atelier « Réussir ses semis » et « Taille de la vigne ».\n\n\n\n\n\n\n\n\nVenez participer à une matinée au cours d’un atelier mixte pour découvrir la préparation des semis pour le potager d’été et pour que les conseils pratiques sur la taille de la vigne. (taille et bouturage) \nLes techniques de semis et leur utilisation pour réussir et faire grandir vos plantes en toute sérénité. \nProgramme : \n\nS’équiper : Les différents substrats / Les différents abris / Le matériel\nLes techniques : Semis sous châssis à l’intérieur\nSemis en pépinière / Le repiquage / Trucs et astuces\n\nDémonstration pratique sur la taille de la vigne. \nProgramme : \n\nTaille de la vigne\nMarcottage \nBouturage\n\nINFOS  PRATIQUES : \n\nAccueil au jardin 9h00 (boissons chaudes offertes)\nDébut de l’atelier 9h30 (durée de l’atelier 3h00 environ)\nApéritif partagé. (brissaudo à l’huile d’olive nouvelle offerte)\n\nRÉSERVATION \nMerci de réserver vos places via  notre espace en ligne. ou au 06 58 15 11 43. (Réservation limitée à 12 participants) \nParticipation 15 € reversé à l’association. \nhttps://www.lesruchersdesbaous.org/contact-1
URL:https://www.saintjeannet.org/evenement/atelier-reussir-semis-taille-de-vigne-ruchers-baous/
LOCATION:Jardin Lazare\, CD 18 - Parking René Veyssi\, Saint Jeannet\, 06640\, France
ATTACH;FMTTYPE=image/jpeg:https://www.saintjeannet.org/wp-content/uploads/2018/03/images.jpg
END:VEVENT
END:VCALENDAR