BEGIN:VCALENDAR
VERSION:2.0
PRODID:-//Saint-Jeannet - ECPv6.0.8//NONSGML v1.0//EN
CALSCALE:GREGORIAN
METHOD:PUBLISH
X-WR-CALNAME:Saint-Jeannet
X-ORIGINAL-URL:https://www.saintjeannet.org
X-WR-CALDESC:évènements pour Saint-Jeannet
REFRESH-INTERVAL;VALUE=DURATION:PT1H
X-Robots-Tag:noindex
X-PUBLISHED-TTL:PT1H
BEGIN:VTIMEZONE
TZID:Europe/Paris
BEGIN:DAYLIGHT
TZOFFSETFROM:+0100
TZOFFSETTO:+0200
TZNAME:CEST
DTSTART:20180325T010000
END:DAYLIGHT
BEGIN:STANDARD
TZOFFSETFROM:+0200
TZOFFSETTO:+0100
TZNAME:CET
DTSTART:20181028T010000
END:STANDARD
END:VTIMEZONE
BEGIN:VEVENT
DTSTART;VALUE=DATE:20180301
DTEND;VALUE=DATE:20180302
DTSTAMP:20260422T073504
CREATED:20171129T102138Z
LAST-MODIFIED:20171129T102138Z
UID:6338-1519862400-1519948799@www.saintjeannet.org
SUMMARY:Devenir parents (rencontre avec les partenaires de la petite enfance) La Gaude
DESCRIPTION:DEVENIR PARENTS\nRencontre avec les partenaires de la petite enfance \n\nle 7 décembre 2017\,\nle 1er mars 2018\,\nle 07 juin 2018\n\nRendez-vous 14h salle du lien Gaudois La Gaude \nRenseignements et inscriptions CAF : 04.92.29.41.72 – Crèche : 04.93.24.91.54
URL:https://www.saintjeannet.org/evenement/devenir-parents-rencontre-partenaires-de-petite-enfance-gaude-2/
ATTACH;FMTTYPE=image/jpeg:https://www.saintjeannet.org/wp-content/uploads/2017/11/devenirparents-page-001.jpg
END:VEVENT
END:VCALENDAR