BEGIN:VCALENDAR
VERSION:2.0
PRODID:-//Saint-Jeannet - ECPv6.0.8//NONSGML v1.0//EN
CALSCALE:GREGORIAN
METHOD:PUBLISH
X-WR-CALNAME:Saint-Jeannet
X-ORIGINAL-URL:https://www.saintjeannet.org
X-WR-CALDESC:évènements pour Saint-Jeannet
REFRESH-INTERVAL;VALUE=DURATION:PT1H
X-Robots-Tag:noindex
X-PUBLISHED-TTL:PT1H
BEGIN:VTIMEZONE
TZID:Europe/Paris
BEGIN:DAYLIGHT
TZOFFSETFROM:+0100
TZOFFSETTO:+0200
TZNAME:CEST
DTSTART:20180325T010000
END:DAYLIGHT
BEGIN:STANDARD
TZOFFSETFROM:+0200
TZOFFSETTO:+0100
TZNAME:CET
DTSTART:20181028T010000
END:STANDARD
END:VTIMEZONE
BEGIN:VEVENT
DTSTART;TZID=Europe/Paris:20180223T080000
DTEND;TZID=Europe/Paris:20180226T170000
DTSTAMP:20260422T090238
CREATED:20180207T102909Z
LAST-MODIFIED:20180207T102909Z
UID:7995-1519372800-1519664400@www.saintjeannet.org
SUMMARY:Stage communication "Non-violente" du 23 au 26 février salle du Four à Pain
DESCRIPTION:MODULE 1\, 2 et 3 REGROUPÉS DANS LA RÉGION DE NICE (Saint-Jeannet)\n\n\n\n\n\nAnimés par Stephan Crestani. \nPour en savoir plus sur ces stages ou vous inscrire : merci de contacter Michel Hirschowitz au 06 63 05 80 31 ou 09 83 47 42 87 ou par mail à mhirschowitz1@gmail.com \n\n\nDates : \n\nles 23-24-25-26 février 2018 (modules 1 et 2)\npuis 31 mars-1er avril (module 3)\n\n\n\nInformations pratiques : \nCe stage aura lieu dans le charmant petit village de Saint-Jeannet\, à côté de Nice\, en résidentiel. Possibilité d’hébergement gratuit chez d’autres stagiaires dans la limite des places disponibles. La restauration sera à prix coûtant (partage des achats des aliments). \n\nFacebook de l’association Rouelibre06 \nhttps://www.facebook.com/RoueLibre06/
URL:https://www.saintjeannet.org/evenement/stage-communication-non-violente-23-26-fevrier-salle-four-a-pain/
LOCATION:Salle du four à Pain
ATTACH;FMTTYPE=image/jpeg:https://www.saintjeannet.org/wp-content/uploads/2018/02/1384333193.jpg
END:VEVENT
BEGIN:VEVENT
DTSTART;TZID=Europe/Paris:20180224T090000
DTEND;TZID=Europe/Paris:20180224T170000
DTSTAMP:20260422T090238
CREATED:20180130T084108Z
LAST-MODIFIED:20180205T091856Z
UID:7730-1519462800-1519491600@www.saintjeannet.org
SUMMARY:Atelier de cuisine «Vin d'orange et confiture d'oranges amères au jardin participatif le samedi 24 février
DESCRIPTION:SAMEDI 24 FÉVRIER – Atelier de cuisine «Vin d’orange et confiture d’oranges amères»\n\n\n\n\n\n\n\n\nLe coin cuisine vous propose un atelier vin d’orange et confiture d’oranges amères \nle samedi 24 février au jardin participatif sous l’œil averti de Rose notre spécialiste! \nVenez apprendre à confectionner ces recettes traditionnelles et locales de la région dans la convivialité de la cuisine de pièce\, et repartez avec votre pot de confiture!  \nRecette utilisant des produits naturels de Saint Jeannet (oranges\, citron\, vin rosé vignoble Rasse.) \n\n\n\n\n\nINFOS PRATIQUES : \n\nAccueil au jardin 9h00 (boissons chaudes offertes)\nDébut de l’atelier 9h30 (durée de l’atelier 3h00 environ)\n\nRéservation par mail : \ncuisine@lesruchersdesbaous.org ou au 06 15 40 93 24 \nParticipation 15 € reversé à l’association. \nPot de confiture offert! \nPour nous trouver cliquez ici 
URL:https://www.saintjeannet.org/evenement/atelier-de-cuisine-vin-dorange-confiture-doranges-ameres-jardin-participatif-samedi-24-fevrier/
LOCATION:Jardin Lazare\, CD 18 - Parking René Veyssi\, Saint Jeannet\, 06640\, France
ATTACH;FMTTYPE=image/jpeg:https://www.saintjeannet.org/wp-content/uploads/2018/02/Jardins-Ruchers-des-Baous.jpg
END:VEVENT
BEGIN:VEVENT
DTSTART;TZID=Europe/Paris:20180224T183000
DTEND;TZID=Europe/Paris:20180224T220000
DTSTAMP:20260422T090238
CREATED:20180219T093201Z
LAST-MODIFIED:20180219T093201Z
UID:8165-1519497000-1519509600@www.saintjeannet.org
SUMMARY:Ambiance Carnaval " Crêpes et Galettes" le samedi 24 février au Cercle Le Progrès
DESCRIPTION:AMBIANCE CARNAVAL \nGalettes Bretonnes et Crêpes sucrées le samedi 24 février au Cercle le Progrès à partir de 18h30 \nLe Facebook du Cercle Le Progrès
URL:https://www.saintjeannet.org/evenement/ambiance-carnaval-crepes-galettes-samedi-24-fevrier-cercle-progres/
ATTACH;FMTTYPE=image/jpeg:https://www.saintjeannet.org/wp-content/uploads/2018/02/27973280_1988875194461099_3411512911838668956_n.jpg
END:VEVENT
END:VCALENDAR