BEGIN:VCALENDAR
VERSION:2.0
PRODID:-//Saint-Jeannet - ECPv6.0.8//NONSGML v1.0//EN
CALSCALE:GREGORIAN
METHOD:PUBLISH
X-WR-CALNAME:Saint-Jeannet
X-ORIGINAL-URL:https://www.saintjeannet.org
X-WR-CALDESC:évènements pour Saint-Jeannet
REFRESH-INTERVAL;VALUE=DURATION:PT1H
X-Robots-Tag:noindex
X-PUBLISHED-TTL:PT1H
BEGIN:VTIMEZONE
TZID:Europe/Paris
BEGIN:DAYLIGHT
TZOFFSETFROM:+0100
TZOFFSETTO:+0200
TZNAME:CEST
DTSTART:20180325T010000
END:DAYLIGHT
BEGIN:STANDARD
TZOFFSETFROM:+0200
TZOFFSETTO:+0100
TZNAME:CET
DTSTART:20181028T010000
END:STANDARD
END:VTIMEZONE
BEGIN:VEVENT
DTSTART;TZID=Europe/Paris:20180216T193000
DTEND;TZID=Europe/Paris:20180216T233000
DTSTAMP:20260422T090203
CREATED:20180130T112356Z
LAST-MODIFIED:20180131T104235Z
UID:7760-1518809400-1518823800@www.saintjeannet.org
SUMMARY:Le Lions Club Balcons de Provence vous propose son grand loto le vendredi 16 février
DESCRIPTION:Comme chaque année à pareille époque\, le Lions Club Balcons de Provence vous propose son grand loto dont l’intégralité du bénéfice est destiné à ses œuvres sociales. \n**Vendredi 16 février Salle Ecovie de Carros** \nCette année encore\, nous avons permis à un jeune handicapé d’être équipé d’un fauteuil roulant ou encore aidé de manière conséquente les sinistrés des terribles incendies Carrossois.\nNotre loto sert à tout cela.\nVotre participation à ce loto servira à aider les personnes qui en ont besoin. Mais il vous permettra aussi\, peut-être\, de partir 1 semaine en croisière en Méditerranée ou en séjour en Corse (voir l’affiche jointe)\, ou d’emporter de nombreux autres lots tout aussi prestigieux. \nPour réserver\, je vous conseille d’appeler le 06 95 85 64 36 ou par moi-même par retour de ce mail.\nJe reste à votre disposition pour les renseignements que vous souhaitez\, vous pouvez me joindre au 06 11 33 12 95.\nA bientôt j’espère. \nDominique Sallay\nLIONS CLUB BALCONS DE PROVENCE
URL:https://www.saintjeannet.org/evenement/lions-club-balcons-de-provence-propose-grand-loto-vendredi-16-fevrier/
LOCATION:SALLE ECOVIE A CARROS
END:VEVENT
END:VCALENDAR