BEGIN:VCALENDAR
VERSION:2.0
PRODID:-//Saint-Jeannet - ECPv6.0.8//NONSGML v1.0//EN
CALSCALE:GREGORIAN
METHOD:PUBLISH
X-WR-CALNAME:Saint-Jeannet
X-ORIGINAL-URL:https://www.saintjeannet.org
X-WR-CALDESC:évènements pour Saint-Jeannet
REFRESH-INTERVAL;VALUE=DURATION:PT1H
X-Robots-Tag:noindex
X-PUBLISHED-TTL:PT1H
BEGIN:VTIMEZONE
TZID:Europe/Paris
BEGIN:DAYLIGHT
TZOFFSETFROM:+0100
TZOFFSETTO:+0200
TZNAME:CEST
DTSTART:20180325T010000
END:DAYLIGHT
BEGIN:STANDARD
TZOFFSETFROM:+0200
TZOFFSETTO:+0100
TZNAME:CET
DTSTART:20181028T010000
END:STANDARD
END:VTIMEZONE
BEGIN:VEVENT
DTSTART;TZID=Europe/Paris:20180122T080000
DTEND;TZID=Europe/Paris:20180215T170000
DTSTAMP:20260422T090332
CREATED:20180122T075913Z
LAST-MODIFIED:20180122T203925Z
UID:7617-1516608000-1518714000@www.saintjeannet.org
SUMMARY:Fiche inscription aux Talents Nuits du Sud jusqu’au 15 février 2018...Tentez votre chance
DESCRIPTION:https://www.facebook.com/festivalnuitsdusud/posts/10155985118191788
URL:https://www.saintjeannet.org/evenement/fiche-dinscription-aux-talents-nuits-sud-jusquau-15-fevrier-2018-tentez-chance/
LOCATION:VENCE
ATTACH;FMTTYPE=image/jpeg:https://www.saintjeannet.org/wp-content/uploads/2018/01/11822817_10153472872936788_5138943291830573270_n.jpg
END:VEVENT
BEGIN:VEVENT
DTSTART;TZID=Europe/Paris:20180211T090000
DTEND;TZID=Europe/Paris:20180211T113000
DTSTAMP:20260422T090332
CREATED:20171004T082356Z
LAST-MODIFIED:20180115T124320Z
UID:5255-1518339600-1518348600@www.saintjeannet.org
SUMMARY:Informations sur le chemin proposé par la Paroisse aux enfants
DESCRIPTION:La Paroisse ST Véran et ST Lambet propose les 2ème dimanches des mois (le matin) de 9h à 11h30 des informations sur le chemin proposé par la Paroisse aux enfants. \nLes rendez-vous : le 12 novembre\, le 10 décembre\, le 14 janvier 2018\, le 11 février\, le 11 mars\, le 08 avril\, le 13 mai et le 10 juin 2018. \nCoordonnées : Monsieur Louis Gibellin « Curé » 04.93.59.88.63 – Mail. louis9.gibellin@orange.fr
URL:https://www.saintjeannet.org/evenement/informations-chemin-propose-paroisse-aux-enfants-4/
LOCATION:FOUR A PAIN
END:VEVENT
END:VCALENDAR