BEGIN:VCALENDAR
VERSION:2.0
PRODID:-//Saint-Jeannet - ECPv6.0.8//NONSGML v1.0//EN
CALSCALE:GREGORIAN
METHOD:PUBLISH
X-WR-CALNAME:Saint-Jeannet
X-ORIGINAL-URL:https://www.saintjeannet.org
X-WR-CALDESC:évènements pour Saint-Jeannet
REFRESH-INTERVAL;VALUE=DURATION:PT1H
X-Robots-Tag:noindex
X-PUBLISHED-TTL:PT1H
BEGIN:VTIMEZONE
TZID:Europe/Paris
BEGIN:DAYLIGHT
TZOFFSETFROM:+0100
TZOFFSETTO:+0200
TZNAME:CEST
DTSTART:20170326T010000
END:DAYLIGHT
BEGIN:STANDARD
TZOFFSETFROM:+0200
TZOFFSETTO:+0100
TZNAME:CET
DTSTART:20171029T010000
END:STANDARD
END:VTIMEZONE
BEGIN:VEVENT
DTSTART;TZID=Europe/Paris:20171216T080000
DTEND;TZID=Europe/Paris:20171217T170000
DTSTAMP:20260422T134307
CREATED:20171115T102458Z
LAST-MODIFIED:20171115T102458Z
UID:5905-1513411200-1513530000@www.saintjeannet.org
SUMMARY:Idées cadeaux pour Noël avec Cécile CIARAMITARO
DESCRIPTION:Les ateliers de Noël de Cécile CIARAMITARO les 16 et 17 décembre. \nhttp://www.cecile-ciaramitaro.fr/
URL:https://www.saintjeannet.org/evenement/idees-cadeaux-noel-cecile-ciaramitaro/
LOCATION:VILLAGE DE SAINT JEANNET
ATTACH;FMTTYPE=image/jpeg:https://www.saintjeannet.org/wp-content/uploads/2017/11/Image-Cécile.jpg
END:VEVENT
BEGIN:VEVENT
DTSTART;TZID=Europe/Paris:20171217T090000
DTEND;TZID=Europe/Paris:20171217T170000
DTSTAMP:20260422T134307
CREATED:20171124T140200Z
LAST-MODIFIED:20171124T140200Z
UID:6207-1513501200-1513530000@www.saintjeannet.org
SUMMARY:Venez construire un escalier en pierres sèches !
DESCRIPTION:DIMANCHE 17 DÉCEMBRE – Venez construire un escalier en pierres sèches !\nAu cours de ce chantier participatif\, de 9h00 à 16h30 (Accueil café à 8h45) vous pourrez apprendre à construire un escalier en pierres sèches avec des professionnels et partager un moment convivial à l’approche de Noël\nL’association préparera :\nAccueil café\nSoupe\, fromages et pain\nVin chaud et douceurs de Noël\nLes participants pourront apporter un plat et/ou une boisson\nParticipation gratuite. Pensez à prendre des gants et chaussures protectrices fermées \nGeorgette
URL:https://www.saintjeannet.org/evenement/venez-construire-escalier-pierres-seches/
ATTACH;FMTTYPE=image/jpeg:https://www.saintjeannet.org/wp-content/uploads/2017/11/23843498_1306498279456814_992799626079844430_n.jpg
END:VEVENT
BEGIN:VEVENT
DTSTART;TZID=Europe/Paris:20171217T143000
DTEND;TZID=Europe/Paris:20171217T220000
DTSTAMP:20260422T134307
CREATED:20170908T133357Z
LAST-MODIFIED:20171116T091316Z
UID:4786-1513521000-1513548000@www.saintjeannet.org
SUMMARY:Remise des paniers de Noël
DESCRIPTION:L’association Saint Jeannet Pétanque organise une remise de paniers de Noël le 17 décembre de 14h30 à22h au clos de boules. \nCorrespondant : Stéphan ACHOUR Tél.06.16.24.66.29 Mail.earlaplumeblanche@orange.fr
URL:https://www.saintjeannet.org/evenement/remise-panniers-de-noel/
LOCATION:Clos de boules de Saint Jeannet
ATTACH;FMTTYPE=image/jpeg:https://www.saintjeannet.org/wp-content/uploads/2017/06/LOGO-SAINT-JEANNET-JUIN-2017-ConvertImage-page-001.jpg
END:VEVENT
END:VCALENDAR