BEGIN:VCALENDAR
VERSION:2.0
PRODID:-//Saint-Jeannet - ECPv6.0.8//NONSGML v1.0//EN
CALSCALE:GREGORIAN
METHOD:PUBLISH
X-ORIGINAL-URL:https://www.saintjeannet.org
X-WR-CALDESC:évènements pour Saint-Jeannet
REFRESH-INTERVAL;VALUE=DURATION:PT1H
X-Robots-Tag:noindex
X-PUBLISHED-TTL:PT1H
BEGIN:VTIMEZONE
TZID:Europe/Paris
BEGIN:DAYLIGHT
TZOFFSETFROM:+0100
TZOFFSETTO:+0200
TZNAME:CEST
DTSTART:20170326T010000
END:DAYLIGHT
BEGIN:STANDARD
TZOFFSETFROM:+0200
TZOFFSETTO:+0100
TZNAME:CET
DTSTART:20171029T010000
END:STANDARD
END:VTIMEZONE
BEGIN:VEVENT
DTSTART;TZID=Europe/Paris:20171214T190000
DTEND;TZID=Europe/Paris:20171214T230000
DTSTAMP:20260422T122110
CREATED:20171207T092411Z
LAST-MODIFIED:20171207T092411Z
UID:6644-1513278000-1513292400@www.saintjeannet.org
SUMMARY:Afterwork des Baous
DESCRIPTION:J-7\nJeudi 14 Décembre dès 19h à GATTIÈRES (06) \nNous attendons plus de 200 personnes : chefs d’entreprise\, freelance\, employés de petites/moyennes/grandes entreprises\, recruteurs\, personnes en recherche de stage ou d’emploi\, artistes indépendants\, commerçants de nos villages … ET VOUS ? \n\nAMBIANCE MUSICALE \nNETWORKING\n1 PLACE EN CRECHE D’UNE VALEUR DE 13’500€ OFFERTE PAR PEOPLE&BABY\n________\nParking sur place et navette.\nRéservation obligatoire par email sur afterwork@smart-clic.fr
URL:https://www.saintjeannet.org/evenement/afterwork-des-baous/
LOCATION:La Merenda de la place Gattières
ATTACH;FMTTYPE=image/png:https://www.saintjeannet.org/wp-content/uploads/2017/12/adb2.png
END:VEVENT
END:VCALENDAR