BEGIN:VCALENDAR
VERSION:2.0
PRODID:-//Saint-Jeannet - ECPv6.0.8//NONSGML v1.0//EN
CALSCALE:GREGORIAN
METHOD:PUBLISH
X-ORIGINAL-URL:https://www.saintjeannet.org
X-WR-CALDESC:évènements pour Saint-Jeannet
REFRESH-INTERVAL;VALUE=DURATION:PT1H
X-Robots-Tag:noindex
X-PUBLISHED-TTL:PT1H
BEGIN:VTIMEZONE
TZID:Europe/Paris
BEGIN:DAYLIGHT
TZOFFSETFROM:+0100
TZOFFSETTO:+0200
TZNAME:CEST
DTSTART:20170326T010000
END:DAYLIGHT
BEGIN:STANDARD
TZOFFSETFROM:+0200
TZOFFSETTO:+0100
TZNAME:CET
DTSTART:20171029T010000
END:STANDARD
END:VTIMEZONE
BEGIN:VEVENT
DTSTART;TZID=Europe/Paris:20171125T100000
DTEND;TZID=Europe/Paris:20171126T190000
DTSTAMP:20260424T152225
CREATED:20171004T084954Z
LAST-MODIFIED:20171113T101604Z
UID:5268-1511604000-1511722800@www.saintjeannet.org
SUMMARY:Artistes Randonneurs des Sentiers et Village des Baous
DESCRIPTION:L’association Sentiers et Villages des Baous organise le 25 et 26 novembre 2017 de 10h à 19h une exposition des œuvres des artistes de l’association dans la salle Malaussène. \nCorrespondant : Roger Cane Tél.06.74.38.55.17 – Mail. rg.cane@orange.fr
URL:https://www.saintjeannet.org/evenement/artistes-randonneurs-sentiers-village-baous/
LOCATION:Salle Malaussène\, SAINT JEANNET\, 06640
ATTACH;FMTTYPE=image/jpeg:https://www.saintjeannet.org/wp-content/uploads/2017/10/Expo-Sentiers-2017-page-001.jpg
END:VEVENT
BEGIN:VEVENT
DTSTART;VALUE=DATE:20171126
DTEND;VALUE=DATE:20171127
DTSTAMP:20260424T152225
CREATED:20171006T075418Z
LAST-MODIFIED:20171006T075418Z
UID:5296-1511654400-1511740799@www.saintjeannet.org
SUMMARY:Festival international de films documentaires ALIMENTERRE
DESCRIPTION:Agribio Alpes-Maritimes fait son : \nFESTIVAL ALIMENTERRE\nDe 15 octobre au 30 novembre\, le Festival international de films documentaires ALIMENTERRE s’organise dans les Alpes-Maritimes.\nL’association des producteurs biologiques du territoire\, Agribio Alpes-Maritimes\, organise pour la seconde année consécutive des ciné-soupes sur 4 fermes bio du département :\n\nSamedi 21 octobre à Valderoure sur la ferme de Stéphane Maillard\,\nSamedi 28 octobre à Sallagriffon sur la ferme des Ruchers de Sallagriffon\,\nSamedi 18 novembre à Saint-Jeannet sur la ferme de Pierre Boijout\,\nDimanche 26 novembre à Gréolières à la ferme la Pisciculture du Cheiron.\n\nEt lors des projections : visite de la ferme\, confection d’une soupe collective\, projection du film\, dégustation de la soupe et discussion autour du film ! \n\nLancement du Festival ALIMENTERRE à Saint-Vallier-De-Thiey le Jeudi 12 octobre :\n\n-> Marché nocturne de producteurs\, \n-> Ciné-débat « La relève » en présence du Conseil de Développement du Parc Naturel Régional des Préalpes d’Azur. \nEn pièce-jointe\, veuillez trouver le communiqué de presse et le flyer du Festival\, toutes les informations utiles à la diffusion des projections ! \n L’une des projections ayant lieu sur votre commune\, c’est également l’occasion de mettre en valeur les producteurs de notre territoire. \nRetrouvez l’ensemble des informations relatives à l’évènement sur sa page Facebook ! \nMerci à vous et à bientôt pour un ciné-soupe à la ferme ! \nFlyerALI Verso Petit \nFlyerALI Recto Petit \nAGRIBIO ALIMENTERRE
URL:https://www.saintjeannet.org/evenement/festival-international-de-films-documentaires-alimenterre-5/
LOCATION:la ferme la Pisciculture du Cheiron.\, GREOLIERES
ATTACH;FMTTYPE=image/jpeg:https://www.saintjeannet.org/wp-content/uploads/2017/10/Festival-alimenterre.jpg
END:VEVENT
END:VCALENDAR