BEGIN:VCALENDAR
VERSION:2.0
PRODID:-//Saint-Jeannet - ECPv6.0.8//NONSGML v1.0//EN
CALSCALE:GREGORIAN
METHOD:PUBLISH
X-ORIGINAL-URL:https://www.saintjeannet.org
X-WR-CALDESC:évènements pour Saint-Jeannet
REFRESH-INTERVAL;VALUE=DURATION:PT1H
X-Robots-Tag:noindex
X-PUBLISHED-TTL:PT1H
BEGIN:VTIMEZONE
TZID:Europe/Paris
BEGIN:DAYLIGHT
TZOFFSETFROM:+0100
TZOFFSETTO:+0200
TZNAME:CEST
DTSTART:20170326T010000
END:DAYLIGHT
BEGIN:STANDARD
TZOFFSETFROM:+0200
TZOFFSETTO:+0100
TZNAME:CET
DTSTART:20171029T010000
END:STANDARD
END:VTIMEZONE
BEGIN:VEVENT
DTSTART;TZID=Europe/Paris:20171117T090000
DTEND;TZID=Europe/Paris:20171125T180000
DTSTAMP:20260425T001707
CREATED:20170908T101058Z
LAST-MODIFIED:20171117T113144Z
UID:4753-1510909200-1511632800@www.saintjeannet.org
SUMMARY:LES AUTOMNALES (Du 17 au 25 novembre 2017)
DESCRIPTION:Les Automnales auront lieu du 17 au 25 novembre 2017. Les expositions et manifestations se dérouleront sur plusieurs communes (Gattières\, Le Broc\, Carros et Saint Jeannet). \nPromotion de l’art\, interventions dans les écoles\, participation des lycéens\, ESAT\, etc. \nOrganisateur : Longo Art – Monsieur Jean-Claude PINTO – Coordonnées : 06.99.33.98.44 – Adresse mail : longoart06@gmail.com \nLe programme des Automnales « Métamorphoses » \nSamedi 18 novembre à Saint-Jeannet\nAu four à pain  à 17h30 ( expo des lycéens de Vence \, SAS  de Grasse et Saint-Jeannet et écoles des près et de la ferrage. \nSalle Saint Jean Baptiste à 19h \n\nChorale des Choeurs des coteaux d’Azur avec une vidéo de JC Pinto.\nProjection de Marco Sartori.\nProjection JM Angelini\nSous réserve: Lecture de Jean Louis Layrac\nExposition des artistes de Longo’ARt et des invités avec présentation des oeuvres par chaque artiste: S. HamelGrain\, E. Bovis\, L.Prat\,\n\n\nBriols\, P. Ravan\, G. BensaMartin\, G. Feuch\, MissMoss\, Elena\,B. Schlienger\, A. Zyzeck\, JM Angélini\, Tini Noy\, M. sartori\, JC Pinto\, L. Germani\, D. Kilian\, A. Appert.\nDieleman\, S. Therier\, Rénata\,M-A Radigois\,…\n\nMise en place d’un travail collectif Longo’art. Pot de l’amitié. \nExpositions ouvertes du 17 au 26 novembre. \n\nSam\, dim\, de 10h à 12h30 et de 14h à 18h\nlun\, mar\, merc\, jeudi\, ven\, sur demande:\ntel. 06 99 33 98 44\n\nInterventions dans les écoles primaires de Saint-Jeannet: \nProgramme N°1 – Programme N°2 \nUn article de Nice-Matin
URL:https://www.saintjeannet.org/evenement/automnales-16-26-novembre-2017/
LOCATION:SAINT JEANNET
ATTACH;FMTTYPE=image/jpeg:https://www.saintjeannet.org/wp-content/uploads/2017/09/Affiche-page-001.jpg
END:VEVENT
END:VCALENDAR